BEGIN:VCALENDAR
VERSION:2.0
PRODID:-//TYPO3/NONSGML Calendarize//EN


BEGIN:VEVENT
UID:calendarize-vacbaltiesu-pieminas-vietas-rigas-centra
DTSTAMP:20260306T074945Z

DTSTART:20260326T143000Z
DTEND:20260326T160000Z
    
SUMMARY:Atvērtā lekcija "Vācbaltiešu piemiņas vietas Rīgas centrā"
DESCRIPTION:Lekcijas tēma "Valodu kontaktu izraisītās sekas: valodas koda maiņa\, hibrīdvalodas\, valodu izzušana".Mācību ekskursija pa Rīgas centru\, iepazīstoties ar vācbaltiešu piemiņas vietām.Mācību ekskursiju studiju kursā "Vācbaltiešu vēsturiskais mantojums"\,  Vēstures un arheoloģijas maģistra studiju programma.\nLekcija notiks plkst. 16.30–18.00 (Ārpusauditorijas nodarbība\,  tikšanās vieta plkst. 16.30 pie “Laimas pulksteņa").Pieteikties lekcijai.Plašāka informācija par atvērtajām lekcijām.
X-ALT-DESC;FMTTYPE=text/html:<p>Lekcijas tēma "Valodu kontaktu izraisītās sekas: valodas koda maiņa\, hibrīdvalodas\, valodu izzušana".<br /><br />Mācību ekskursija pa Rīgas centru\, iepazīstoties ar vācbaltiešu piemiņas vietām.<br />Mācību ekskursiju studiju kursā "Vācbaltiešu vēsturiskais mantojums"\, &nbsp\;Vēstures un arheoloģijas maģistra studiju programma.</p>\n<p>Lekcija notiks plkst. 16.30–18.00 (Ārpusauditorijas nodarbība\, &nbsp\;tikšanās vieta plkst. 16.30 pie “Laimas pulksteņa").<br /><br /><a href="https://forms.office.com/pages/responsepage.aspx?id=RE6EJpfSaECjKUUc6GIx8SDoiE7CMVZLihjv6MH77GRUREZHOTZEMkRNUk8xV1ZKMzhBUURZREkyUi4u&amp\;route=shorturl" target="_blank" rel="noreferrer"><strong>Pieteikties lekcijai.</strong></a><br /><br /><a href="https://www.lu.lv/gribustudet/atvertas-lekcijas/" target="_blank"><strong>Plašāka informācija par atvērtajām lekcijām.</strong></a></p>
LOCATION:Tikšanās vieta plkst. 16.30 pie "Laimas pulksteņa"
END:VEVENT

END:VCALENDAR