BEGIN:VCALENDAR
VERSION:2.0
PRODID:-//TYPO3/NONSGML Calendarize//EN


BEGIN:VEVENT
UID:calendarize-starptautiska-atvertas-piekluves-nedela-1
DTSTAMP:20251010T150310Z

DTSTART;VALUE=DATE:20251020
DTEND;VALUE=DATE:20251027
    
SUMMARY:Starptautiskā atvērtās piekļuves nedēļa
DESCRIPTION:Starptautiskā atvērtās piekļuves nedēļa ir laiks\, kad cilvēki un organizācijas visā pasaulē svin un runā par to\, cik svarīgi ir brīvi pieejami zinātniskie pētījumi\, dati un citi rezultāti. Šajā nedēļā tiek dalīta pieredze\, apspriestas atvērtās zinātnes metodes\, zināšanu apmaiņa\, pētniecības pieejamība sabiedrībai un jaunākās aktualitātes šajā jomā.\n“Atvērtā zinātne nav tikai piekļuve datiem un publikācijām — tā ir iespēja veidot iekļaujošu\, caurspīdīgu un sadarbībā balstītu pētniecības vidi. Latvijas Universitātes bibliotēka ir lepna būt daļa no šīs kustības\, veicinot zināšanu pieejamību ikvienam\,” norāda Ilona Kauce\, LU bibliotēkas Digitālo resursu un pētniecības pakalpojumu nodaļas vadītāja.\nŠogad Latvijas Universitāte (LU)\, sadarbojoties LU bibliotēkai\, OpenAIRE Nacionālais atvērtās piekļuves dienestam\, LU Datu kuratoriem un citiem Latvijas un citu valstu partneriem\, piedāvā plašu tiešsaistes pasākumu programmu.  \nProgramma
X-ALT-DESC;FMTTYPE=text/html:<p><a href="https://www.openaccessweek.org/" target="_blank" rel="noreferrer"><strong>Starptautiskā atvērtās piekļuves nedēļa</strong></a> ir laiks\, kad cilvēki un organizācijas visā pasaulē svin un runā par to\, cik svarīgi ir brīvi pieejami zinātniskie pētījumi\, dati un citi rezultāti. Šajā nedēļā tiek dalīta pieredze\, apspriestas atvērtās zinātnes metodes\, zināšanu apmaiņa\, pētniecības pieejamība sabiedrībai un jaunākās aktualitātes šajā jomā.</p>\n<p>“Atvērtā zinātne nav tikai piekļuve datiem un publikācijām — tā ir iespēja veidot iekļaujošu\, caurspīdīgu un sadarbībā balstītu pētniecības vidi. Latvijas Universitātes bibliotēka ir lepna būt daļa no šīs kustības\, veicinot zināšanu pieejamību ikvienam\,” norāda Ilona Kauce\, LU bibliotēkas Digitālo resursu un pētniecības pakalpojumu nodaļas vadītāja.</p>\n<p>Šogad Latvijas Universitāte (LU)\, sadarbojoties<strong> </strong><a href="https://www.biblioteka.lu.lv/" target="_blank"><strong>LU bibliotēkai</strong></a>\, <a href="https://www.napd.lu.lv/" target="_blank"><strong>OpenAIRE Nacionālais atvērtās piekļuves dienestam</strong></a>\, LU Datu kuratoriem un citiem Latvijas un citu valstu partneriem\, piedāvā plašu tiešsaistes pasākumu programmu. &nbsp\;</p>\n<p><a href="https://www.biblioteka.lu.lv/fileadmin/user_upload/lu_portal/projekti/lu_biblioteka/Zinas/2025/Oktobris/OA_nedela-2025-programma.pdf" target="_blank"><strong>Programma</strong></a></p>
LOCATION:
END:VEVENT

END:VCALENDAR