BEGIN:VCALENDAR
VERSION:2.0
PRODID:-//TYPO3/NONSGML Calendarize//EN


BEGIN:VEVENT
UID:calendarize-signet-bankas-makslas-kolekcijas-skulpturu-serija-pirma-ekipaza-2
DTSTAMP:20251003T102130Z

DTSTART:20251013T040000Z
DTEND:20251017T170000Z
    
SUMMARY:Signet Bankas mākslas kolekcijas skulptūru sērija “Pirmā ekipāža”
DESCRIPTION:Izstāde “Pirmā ekipāža” apmeklētājiem LU Zinātņu mājas 2. stāvā\, Jelgavas ielā 3\, Rīgā būs pieejama līdz 20. oktobrim. Ikviens interesents aicināts to aplūkot darbdienās no plkst. 7.00 līdz 20.00.Plašāka informācija par izstādi LU fonda tīmekļvietnē.
X-ALT-DESC;FMTTYPE=text/html:<p>Izstāde “Pirmā ekipāža” apmeklētājiem LU Zinātņu mājas 2. stāvā\, Jelgavas ielā 3\, Rīgā būs pieejama līdz 20. oktobrim. Ikviens interesents aicināts to aplūkot darbdienās no plkst. 7.00 līdz 20.00.<br /><br />Plašāka informācija par izstādi <a href="https://www.fonds.lv/events/471" target="_blank"><strong>LU fonda tīmekļvietnē.</strong></a></p>
LOCATION:
END:VEVENT

END:VCALENDAR