BEGIN:VCALENDAR
VERSION:2.0
PRODID:-//TYPO3/NONSGML Calendarize//EN


BEGIN:VEVENT
UID:calendarize-promocijas-darbu-aizstaves-helvijs-niedra-1
DTSTAMP:20251104T120227Z

DTSTART:20251112T110000Z
DTEND:20251112T130000Z
    
SUMMARY:Promocijas darbu aizstāv Helvijs Niedra
DESCRIPTION:2025. gada 12. novembrī plkst. 13.00 Latvijas Biomedicīnas pētījumu un studiju centrā\, Rātsupītes ielā 1\, k-1\, Mazajā zālē Latvijas Universitātes Bioloģijas zinātņu nozares promocijas padomes atklātā sēdē Helvijs Niedra aizstāvēs promocijas darbu “RNS MOLEKULĀRIE FAKTORI HIPOFĪZES UN AIZKUŅĢA DZIEDZERA NEIROENDOKRĪNAJOS AUDZĒJOS” zinātnes doktora grāda (Ph.D) iegūšanai dabaszinātnēs.\nPromocijas darba aizstāvēšanai iespējams pieslēgties arī attālināti - Google Meet.\nRecenzenti:Prof. PhD. Justo P.  Castaño\,  Maimonides  Biomedical  Research Institute of Cordoba (IMIBIC)Prof. Dr. biol. Aija Linē\, Latvijas Biomedicīnas pētījumu un studiju centrs\, Latvijas UniversitāteDr. biol. Vadims Parfejevs\, Latvijas Universitāte\nPlašāka informācija MDZF mājaslapā.
X-ALT-DESC;FMTTYPE=text/html:<p>2025. gada 12. novembrī plkst. 13.00 Latvijas Biomedicīnas pētījumu un studiju centrā\, Rātsupītes ielā 1\, k-1\, Mazajā zālē Latvijas Universitātes Bioloģijas zinātņu nozares promocijas padomes atklātā sēdē <strong>Helvijs Niedra </strong>aizstāvēs promocijas darbu “RNS MOLEKULĀRIE FAKTORI HIPOFĪZES UN AIZKUŅĢA DZIEDZERA NEIROENDOKRĪNAJOS AUDZĒJOS” zinātnes doktora grāda (Ph.D) iegūšanai dabaszinātnēs.</p>\n<p>Promocijas darba aizstāvēšanai iespējams pieslēgties arī attālināti - <a href="https://meet.google.com/kqg-rcyj-pzk" target="_blank"><strong>Google Meet.</strong></a></p>\n<p><i>Recenzenti:</i><br /><i>Prof. PhD. Justo P. &nbsp\;Castaño\, &nbsp\;Maimonides &nbsp\;Biomedical &nbsp\;Research Institute of Cordoba (IMIBIC)</i><br /><i>Prof. Dr. biol. Aija Linē\, Latvijas Biomedicīnas pētījumu un studiju centrs\, Latvijas Universitāte</i><br /><i>Dr. biol. Vadims Parfejevs\, Latvijas Universitāte</i></p>\n<p>Plašāka informācija<a href="https://www.mdzf.lu.lv/par-mums/zinas/zina/t/105902/" target="_blank"><strong> MDZF mājaslapā.</strong></a></p>
LOCATION:Latvijas Biomedicīnas pētījumu un studiju centrs
END:VEVENT

END:VCALENDAR