BEGIN:VCALENDAR
VERSION:2.0
PRODID:-//TYPO3/NONSGML Calendarize//EN


BEGIN:VEVENT
UID:calendarize-promocijas-darbu-aizstaves-ginta-perle-sile-1
DTSTAMP:20251105T094755Z

DTSTART:20251125T123000Z
DTEND:20251125T143000Z
    
SUMMARY:Promocijas darbu aizstāv Ginta Pērle-Sīle
DESCRIPTION:Temats: “Frīdriha Daniela Vāra  (Wahr\, 1749–1827) dzīve un darbība kultūrvēsturiskos kontekstos”\nDarba zinātniskā vadītāja – Dr. philol. Māra Grudule\nRecenzenti:\nProfesore\, Dr. habil. philol. Janīna Kursīte-Pakule\, Latvijas UniversitāteAsoc. profesore\, Dr. philol. Angelika Juško-Štekele\, RTU Rēzeknes akadēmijaProfesore\, Dr. art. Rūta Muktupāvela\, Latvijas Kultūras akadēmija\nAr promocijas darbu var iepazīties LU Daudznozaru bibliotēkā un LU Humanitāro zinātņu fakultātes 304. telpā.Plašāka informācija par promocijas darba aizstāvēšanu. 
X-ALT-DESC;FMTTYPE=text/html:<p><strong>Temats:&nbsp\;“Frīdriha Daniela Vāra &nbsp\;(Wahr\,&nbsp\;1749–1827) dzīve un darbība kultūrvēsturiskos kontekstos”</strong></p>\n<p>Darba zinātniskā vadītāja – Dr. philol. Māra Grudule</p>\n<p>Recenzenti:</p>\n<ul><li>Profesore\, Dr. habil. philol. Janīna Kursīte-Pakule\, Latvijas Universitāte</li><li>Asoc. profesore\, Dr. philol. Angelika Juško-Štekele\, RTU Rēzeknes akadēmija</li><li>Profesore\, Dr. art. Rūta Muktupāvela\, Latvijas Kultūras akadēmija</li></ul>\n<p>Ar promocijas darbu var iepazīties LU Daudznozaru bibliotēkā un LU Humanitāro zinātņu fakultātes 304. telpā.<br /><br /><a href="https://www.hzf.lu.lv/par-mums/lu-mediji/zinas/zina/t/106093/" target="_blank"><strong>Plašāka informācija par promocijas darba aizstāvēšanu.&nbsp\;</strong></a></p>
LOCATION:LU Humanitāro zinātņu fakultāte\, Visvalža iela 4a
END:VEVENT

END:VCALENDAR