BEGIN:VCALENDAR
VERSION:2.0
PRODID:-//TYPO3/NONSGML Calendarize//EN


BEGIN:VEVENT
UID:calendarize-promocijas-darbu-aizstav-peteris-racinskis
DTSTAMP:20251222T141605Z

DTSTART:20260123T140000Z
DTEND:20260123T160000Z
    
SUMMARY:Promocijas darbu aizstāv Pēteris Račinskis
DESCRIPTION:2026. gada 23. janvārī plkst. 16.00 klātienē\, Latvijas Universitātes (Raiņa bulvāris 19) 13. auditorijā\, kā arī attālināti\, notiks LU Datorzinātnes un informātikas\, un Elektrotehnikas\, elektronikas un komunikāciju tehnoloģijas specializētās promocijas padomes atklātā sēde\, kurā promocijas darbu zinātnes doktora grāda (Ph.D) dabaszinātnēs iegūšanai aizstāvēs Pēteris Račinskis.\nTemats: "Uztvere un vadība autonomajā robotikā\, izmantojot redzes-valodas iegultos vektorus".\nDarba zinātniskais vadītājs: Dr. sc. comp. Modris Greitāns.\nRecenzenti:\n1) Dr. sc. comp. Inguna Skadiņa\, Latvijas Universitāte\;\n2) Dr. Vytautas Bučinskas\, Viļņas Ģedimina Tehniskā universitāte\, Lietuva\;\n3) Dr. Po Ting Lin\, Nacionālā Taivānas Zinātnes un tehnoloģiju universitāte\, Taivāna.\nAr promocijas darbu var iepazīties LU Bibliotēkā\, Raiņa bulvārī 19.\nDalība attālinātajā sēdē ar iepriekšēju pieteikšanos\, rakstot uz sintija.silina@lu.lv līdz 20. janvārim. 
X-ALT-DESC;FMTTYPE=text/html:<p><strong>2026. gada 23. janvārī plkst. 16.00 klātienē\, Latvijas Universitātes (Raiņa bulvāris 19) 13. auditorijā\, kā arī attālināti\, notiks LU Datorzinātnes un informātikas\, un Elektrotehnikas\, elektronikas un komunikāciju tehnoloģijas&nbsp\;specializētās promocijas padomes atklātā sēde\, kurā promocijas darbu zinātnes doktora grāda (Ph.D) dabaszinātnēs iegūšanai aizstāvēs Pēteris Račinskis.</strong></p>\n<p>Temats:<strong> "Uztvere un vadība autonomajā robotikā\, izmantojot redzes-valodas iegultos vektorus"</strong>.</p>\n<p>Darba zinātniskais vadītājs: <i>Dr. sc. comp.</i> <strong>Modris Greitāns</strong>.</p>\n<p><strong>Recenzenti:</strong></p>\n<p><strong>1) </strong><i>Dr. sc. comp. </i><strong>Inguna Skadiņa</strong>\, Latvijas Universitāte\;</p>\n<p><strong>2)</strong> <i>Dr. </i><strong>Vytautas Bučinskas</strong>\, Viļņas Ģedimina Tehniskā universitāte\, Lietuva\;</p>\n<p><strong>3) </strong><i>Dr. </i><strong>Po Ting Lin</strong>\, Nacionālā Taivānas Zinātnes un tehnoloģiju universitāte\, Taivāna.</p>\n<p>Ar promocijas darbu var iepazīties LU Bibliotēkā\, Raiņa bulvārī 19.</p>\n<p>Dalība attālinātajā sēdē ar iepriekšēju pieteikšanos\, rakstot uz <a href="mailto:sintija.silina@lu.lv" title="mailto:sintija.silina@lu.lv"><strong>sintija.silina@lu.lv</strong></a>&nbsp\;<strong>līdz 20. janvārim</strong>.<br />&nbsp\;</p>
LOCATION:Raiņa bulvāris 19\, 16. auditorija (www.lu.lv)
END:VEVENT

END:VCALENDAR