BEGIN:VCALENDAR
VERSION:2.0
PRODID:-//TYPO3/NONSGML Calendarize//EN


BEGIN:VEVENT
UID:calendarize-promocijas-darbu-aizstav-horsts-jozefs-lehners
DTSTAMP:20251230T094019Z

DTSTART:20260116T080000Z
DTEND:20260116T100000Z
    
SUMMARY:Promocijas darbu aizstāv Horsts Jozefs Lehners
DESCRIPTION:Darba zinātniskais vadītājs: profesors Henrijs Kaļķis.\nRecenzenti:\nAndrejs Cekuls\, Dr. sc. admin.\, profesors\, Latvijas Universitāte\;Tatjana Tambovceva\, Dr. oec.\, profesore\, Rīgas Tehniskā universitāte\;Asta Valackiene\, Dr. oec.\, profesore\, Mīkola Romera universitāte (Lietuva).\nAr promocijas darbu var iepazīties LU bibliotēkā Rīgā\, Raiņa bulvārī 19.
X-ALT-DESC;FMTTYPE=text/html:<p>Darba zinātniskais vadītājs: profesors Henrijs Kaļķis.</p>\n<p class="text-justify">Recenzenti:</p>\n<ol><li><p class="text-justify">Andrejs Cekuls\,&nbsp\;<i>Dr. sc. admin.</i>\, profesors\, Latvijas Universitāte\;</p></li><li><p class="text-justify">Tatjana Tambovceva\,&nbsp\;<i>Dr. oec.</i>\, profesore\, Rīgas Tehniskā universitāte\;</p></li><li><p class="text-justify">Asta Valackiene\,&nbsp\;<i>Dr. oec.</i>\, profesore\, Mīkola Romera&nbsp\;universitāte (Lietuva).</p></li></ol>\n<p class="text-justify">Ar promocijas darbu var iepazīties LU bibliotēkā Rīgā\, Raiņa bulvārī 19.</p>
LOCATION:Aspazijas bulv. 5\, 305. auditorija
END:VEVENT

END:VCALENDAR