BEGIN:VCALENDAR
VERSION:2.0
PRODID:-//TYPO3/NONSGML Calendarize//EN


BEGIN:VEVENT
UID:calendarize-promocijas-darbu-aizstav-aliia-khadieva-1
DTSTAMP:20251222T141007Z

DTSTART:20260116T130000Z
DTEND:20260116T150000Z
    
SUMMARY:Promocijas darbu aizstāv Aliia Khadieva
DESCRIPTION:2026. gada 16. janvārī plkst. 15.00 attālināti notiks LU Datorzinātnes un informātikas\, un Elektrotehnikas\, elektronikas un komunikāciju tehnoloģijas specializētās promocijas padomes atklātā sēde\, kurā promocijas darbu zinātnes doktora grāda (Ph.D) dabaszinātnēs iegūšanai aizstāvēs Aliia Khadieva.\nTemats: "Kvantu automātu un to vispārinājumu analīze un realizācija".\nDarba zinātniskais vadītājs: Dr. sc. comp. Abuzer Yakaryilmaz.\nRecenzenti:\n1) ‎Dr. sc. comp. Kārlis Čerāns\, Latvijas Universitāte\;\n2) Dr. Ahmet Celal Cem Say\, Bogaziči Universitāte\, Turcija\;\n3) Dr. Beatrice Palano\, Milānas Universitāte\, Itālija.\nAr promocijas darbu var iepazīties LU Bibliotēkā\, Raiņa bulvārī 19.\nDalība sēdē ar iepriekšēju pieteikšanos\, rakstot uz sintija.silina@lu.lv līdz 13. janvārim.
X-ALT-DESC;FMTTYPE=text/html:<p><strong>2026. gada 16. janvārī plkst. 15.00 attālināti notiks LU Datorzinātnes un informātikas\, un Elektrotehnikas\, elektronikas un komunikāciju tehnoloģijas&nbsp\;specializētās promocijas padomes atklātā sēde\, kurā promocijas darbu zinātnes doktora grāda (Ph.D) dabaszinātnēs iegūšanai aizstāvēs Aliia Khadieva.</strong></p>\n<p>Temats: <strong>"Kvantu automātu un to vispārinājumu analīze un realizācija"</strong>.</p>\n<p>Darba zinātniskais vadītājs: <i>Dr. sc. comp.</i> <strong>Abuzer Yakaryilmaz</strong>.</p>\n<p><strong>Recenzenti:</strong></p>\n<p><strong>1)</strong><i> ‎Dr. sc. comp. </i><strong>Kārlis Čerāns</strong>\, Latvijas Universitāte\;</p>\n<p><strong>2)</strong><i><strong> </strong>Dr. </i><strong>Ahmet Celal Cem Say</strong>\, Bogaziči Universitāte\, Turcija\;</p>\n<p><strong>3) </strong><i>Dr. </i><strong>Beatrice Palano</strong>\, Milānas Universitāte\, Itālija.</p>\n<p>Ar promocijas darbu var iepazīties LU Bibliotēkā\, Raiņa bulvārī 19.</p>\n<p>Dalība sēdē ar iepriekšēju pieteikšanos\, rakstot uz <a href="mailto:sintija.silina@lu.lv" title="mailto:sintija.silina@lu.lv">sintija.silina@lu.lv</a>&nbsp\;līdz 13. janvārim.</p>
LOCATION:
END:VEVENT

END:VCALENDAR