BEGIN:VCALENDAR
VERSION:2.0
PRODID:-//TYPO3/NONSGML Calendarize//EN


BEGIN:VEVENT
UID:calendarize-promocijas-darba-aizstavesana-sintija-kaukite-interpunkcijas-un-grafisko-zimju-loma-tekstveide
DTSTAMP:20231227T103016Z

DTSTART:20240109T130000Z
DTEND:20240109T150000Z
    
SUMMARY:Promocijas darba aizstāvēšana – Sintija Ķauķīte „Interpunkcijas un grafisko zīmju loma tekstveidē”
DESCRIPTION:2024. gada 9. janvārī plkst. 15.00 Humanitāro zinātņu fakultātē\, Visvalža ielā 4a\, 402. aud. notiks Valodniecības un literatūrzinātnes un Mūzikas\, vizuālo mākslu un arhitektūras nozaru promocijas padomes atklātā sēde\, kurā disertāciju zinātnes doktora grāda (Ph.D.) iegūšanai humanitārajās un mākslas zinātnēs aizstāvēs Sintija Ķauķīte.\nTemats „Interpunkcijas un grafisko zīmju loma tekstveidē”.\nRecenzenti: tenūrprofesore\, Dr.Philol. Andra Kalnača\, Latvijas Universitāte\; profesore\, Dr. Philol. Linda Lauze\, Liepājas Universitāte\; vadošā pētniece\, Dr. Philol. Antra Kļavinska\, Rēzeknes Tehnoloģiju akadēmija.\nAr promocijas darbu var iepazīties LU Daudznozaru bibliotēkā un LU Humanitāro zinātņu fakultātes 304. telpā.\nInformāciju sagatavoja: Iveta Narodovska\, Valodniecības un literatūrzinātnes un Mūzikas\, vizuālo mākslu un arhitektūras nozaru promocijas padomes zinātniskā sekretāre.
X-ALT-DESC;FMTTYPE=text/html:<p>2024. gada 9. janvārī plkst. 15.00 Humanitāro zinātņu fakultātē\, Visvalža ielā 4a\, 402. aud. notiks Valodniecības un literatūrzinātnes un Mūzikas\, vizuālo mākslu un arhitektūras nozaru promocijas padomes atklātā sēde\, kurā disertāciju zinātnes doktora grāda (Ph.D.) iegūšanai humanitārajās un mākslas zinātnēs aizstāvēs Sintija Ķauķīte.</p>\n<p>Temats „Interpunkcijas un grafisko zīmju loma tekstveidē”.</p>\n<p>Recenzenti:&nbsp\;tenūrprofesore\, Dr.Philol. Andra Kalnača\, Latvijas Universitāte\;&nbsp\;profesore\, Dr. Philol. Linda Lauze\, Liepājas Universitāte\;&nbsp\;vadošā pētniece\, Dr. Philol. Antra Kļavinska\, Rēzeknes Tehnoloģiju akadēmija.</p>\n<p>Ar promocijas darbu var iepazīties LU Daudznozaru bibliotēkā un LU Humanitāro zinātņu fakultātes 304. telpā.</p>\n<p>Informāciju sagatavoja: Iveta Narodovska\,&nbsp\;Valodniecības un literatūrzinātnes un&nbsp\;Mūzikas\, vizuālo mākslu un arhitektūras nozaru&nbsp\;promocijas padomes zinātniskā sekretāre.</p>
LOCATION:HZF Visvalža ielā 4a\, Rīgā
END:VEVENT

END:VCALENDAR