BEGIN:VCALENDAR
VERSION:2.0
PRODID:-//TYPO3/NONSGML Calendarize//EN


BEGIN:VEVENT
UID:calendarize-profesora-maikla-glanzberga-lekcija-what-is-a-theory-of-truth
DTSTAMP:20251111T134512Z

DTSTART:20251127T070000Z
DTEND:20251127T090000Z
    
SUMMARY:Profesora Maikla Glanzberga (ASV) lekcija “Kas ir patiesības teorija?”
DESCRIPTION:Latvijas Universitātē ar lekciju “Kas ir patiesības teorija?” (What Is a Theory of Truth?) viesosies Ratgersa Universitātes (ASV) Kognitīvo zinātņu centra valdes loceklis un izcilības profesors filozofijas un lingvistikas jomās Maikls Glanzbergs (Michael Glanzberg). Lekcija notiks klātienē 27. novembrī plkst. 9.00 Kalpaka bulvārī 4\, doktorantūras skolas zālē “Sapere Aude”. Lekcijas valoda – angļu.\nProfesors Glanzbergs ir nozīmīgs valodas\, kognitīvo procesu un loģiski matemātiskās spriešanas un šo jomu filozofisko pamatu teorētiķis. Viņa pētījumi\, kas guvuši augstu starptautisku novērtējumu\, ir atspoguļoti nozīmīgās publikācijās par modeļteoriju\, valodu un formālo semantiku. \nProfesors Glanzbergs ir viens no vadošajiem nozīmes pētniekiem\, kurš semantikas jautājumus aplūko no matemātiskās analīzes perspektīvas. Mūsdienu formālās semantikas jomā viņš ir viens no visaugstāk vērtētajiem patiesuma teoriju un modeļteorijas ekspertiem pasaulē. 2018. gadā kopā ar Dž. S. Bīlu un D. Ripliju viņš sarakstīja monogrāfiju “Patiesuma formālās teorijas” (Oxford University Press)\, kas mūsdienu zinātnē tiek uzskatīts par “zelta standartu” patiesuma definīciju jomā. Maikls Glanzbergs ir arī “Patiesuma Oksfordas rokasgrāmatas” (Oxford University Press) sakārtotājs\, šis darbs ir būtisks resurss lingvistiem\, filozofiem\, matemātiķiem un citu nozaru pētniekiem\, kuri interesējas par patiesuma formālajiem aspektiem un to saistību ar valodas lietojumu un matemātisko analīzi.\nProfesors strādājis arī Masačūsetsas Tehnoloģiju institūtā\, Toronto Universitātē\, Kalifornijas Universitāte Deivisā un Ziemeļrietumu Universitātē.\nProfesors Maikls Glanzbergs Latvijas Universitātē viesosies pēc profesora Jurģa Šķiltera uzaicinājuma.\nUz lekciju aicinām doktorantus un citus interesentus.\nReģistrēties lekcijai. \n 
X-ALT-DESC;FMTTYPE=text/html:<p><strong>Latvijas Universitātē ar lekciju “Kas ir patiesības teorija?” (What Is a Theory of Truth?) viesosies Ratgersa Universitātes (ASV) Kognitīvo zinātņu centra valdes loceklis un izcilības profesors filozofijas un lingvistikas jomās Maikls Glanzbergs (Michael Glanzberg). Lekcija notiks klātienē 27. novembrī plkst. 9.00 Kalpaka bulvārī 4\, doktorantūras skolas zālē “Sapere Aude”. Lekcijas valoda – angļu.</strong></p>\n<p class="text-justify">Profesors Glanzbergs ir nozīmīgs valodas\, kognitīvo procesu un loģiski matemātiskās spriešanas un šo jomu filozofisko pamatu teorētiķis. Viņa pētījumi\, kas guvuši augstu starptautisku novērtējumu\, ir atspoguļoti nozīmīgās publikācijās par modeļteoriju\, valodu un formālo semantiku.&nbsp\;</p>\n<p class="text-justify">Profesors Glanzbergs ir viens no vadošajiem nozīmes pētniekiem\, kurš semantikas jautājumus aplūko no matemātiskās analīzes perspektīvas. Mūsdienu formālās semantikas jomā viņš ir viens no visaugstāk vērtētajiem patiesuma teoriju un modeļteorijas ekspertiem pasaulē. 2018.&nbsp\;gadā kopā ar Dž.&nbsp\;S.&nbsp\;Bīlu un D.&nbsp\;Ripliju viņš sarakstīja monogrāfiju “Patiesuma formālās teorijas” (<i>Oxford University Press)\,</i> kas mūsdienu zinātnē tiek uzskatīts par “zelta standartu” patiesuma definīciju jomā. Maikls Glanzbergs ir arī “Patiesuma Oksfordas rokasgrāmatas” (<i>Oxford University Press</i>) sakārtotājs\, šis darbs ir būtisks resurss lingvistiem\, filozofiem\, matemātiķiem un citu nozaru pētniekiem\, kuri interesējas par patiesuma formālajiem aspektiem un to saistību ar valodas lietojumu un matemātisko analīzi.</p>\n<p class="text-justify">Profesors strādājis arī Masačūsetsas Tehnoloģiju institūtā\, Toronto Universitātē\, Kalifornijas Universitāte Deivisā un Ziemeļrietumu Universitātē.</p>\n<p class="text-justify">Profesors Maikls Glanzbergs Latvijas Universitātē viesosies pēc profesora Jurģa Šķiltera uzaicinājuma.</p>\n<p class="text-justify">Uz lekciju aicinām doktorantus un citus interesentus.</p>\n<p class="text-justify"><a href="https://forms.cloud.microsoft/pages/responsepage.aspx?id=RE6EJpfSaECjKUUc6GIx8Xy1-cFGZDRDo7e5AZzDh3dURU1MMkwzQTc2T1BZWUFWVURXMEI3MlFKWC4u&amp\;origin=lprLink&amp\;route=shorturl" target="_blank" rel="noreferrer"><strong>Reģistrēties lekcijai.&nbsp\;</strong></a></p>\n<p class="text-justify">&nbsp\;</p>
LOCATION:Doktorantūras skolas zāle "Sapere Aude"\, Kalpaka bulvāris 4
END:VEVENT

END:VCALENDAR