BEGIN:VCALENDAR
VERSION:2.0
PRODID:-//TYPO3/NONSGML Calendarize//EN


BEGIN:VEVENT
UID:calendarize-petijuma-augstakaja-izglitiba-studejoso-kompetencu-novertejums-un-to-attistibas-dinamika-studiju-perioda-nosleguma-konference
DTSTAMP:20231023T134843Z

DTSTART:20231027T103000Z
DTEND:20231027T140000Z
    
SUMMARY:Pētījuma „Augstākajā izglītībā studējošo kompetenču novērtējums un to attīstības dinamika studiju periodā” noslēguma konference
DESCRIPTION:Latvijas Universitātes Pedagoģijas\, psiholoģijas un mākslas fakultātes Pedagoģijas zinātniskajā institūtā no 2020. līdz 2023. gadam divās kārtās tika īstenots projekts “Augstākā izglītībā studējošo kompetenču novērtējums un to attīstības dinamika studiju periodā”\, kura noslēguma konference notiks 27. oktobrī plkst. 14.00 LU Zinātņu mājas Alfas zālē\, Jelgavas ielā. \n\nPROGRAMMA\nVairāk informācijas
X-ALT-DESC;FMTTYPE=text/html:<p>Latvijas Universitātes Pedagoģijas\, psiholoģijas un mākslas fakultātes Pedagoģijas zinātniskajā institūtā no 2020. līdz 2023. gadam divās kārtās tika īstenots projekts “Augstākā izglītībā studējošo kompetenču novērtējums un to attīstības dinamika studiju periodā”\, kura noslēguma konference notiks 27. oktobrī plkst. 14.00 LU Zinātņu mājas Alfas zālē\, Jelgavas ielā.&nbsp\;</p>\n\n<p><strong><a href="t3://file?uid=507067">PROGRAMMA</a></strong></p>\n<p><strong><a href="https://www.lu.lv/par-mums/lu-mediji/zinas/zina/t/80686/">Vairāk informācijas</a></strong></p>
LOCATION:LU Zinātņu māja
END:VEVENT

END:VCALENDAR