BEGIN:VCALENDAR
VERSION:2.0
PRODID:-//TYPO3/NONSGML Calendarize//EN


BEGIN:VEVENT
UID:calendarize-marija-geidelina-lugovska-aizstav-promocijas-darbu
DTSTAMP:20251215T104328Z

DTSTART:20251212T080000Z
DTEND:20251212T100000Z
    
SUMMARY:Marija Geidelina-Lugovska aizstāv promocijas darbu
DESCRIPTION:Recenzenti:\nAntra Ozola\, Dr. sc. admin.\, profesore\, Latvijas Universitāte\;Asta Valackiene\, Ph. D.\, profesore\, Mīkola Romera universitāte\;Nīša Sevdasa (Nisha Sewdass)\, Dr. phil.\, profesore\, Dienvidāfrikas Universitāte.\nAr promocijas darbu var iepazīties LU bibliotēkā Rīgā\, Raiņa bulvārī 19.
X-ALT-DESC;FMTTYPE=text/html:<p><strong>Recenzenti:</strong></p>\n<ol><li>Antra Ozola\, <i>Dr. sc. admin.</i>\, profesore\, Latvijas Universitāte\;</li><li>Asta Valackiene\, <i>Ph. D.\, profesore</i>\, Mīkola Romera universitāte\;</li><li>Nīša Sevdasa (<i>Nisha Sewdass</i>)\, <i>Dr. phil.</i>\, profesore\, Dienvidāfrikas Universitāte.</li></ol>\n<p>Ar promocijas darbu var iepazīties LU bibliotēkā Rīgā\, Raiņa bulvārī 19.</p>
LOCATION:322. auditorija\, Aspazijas bulvāris 5
END:VEVENT

END:VCALENDAR