BEGIN:VCALENDAR
VERSION:2.0
PRODID:-//TYPO3/NONSGML Calendarize//EN


BEGIN:VEVENT
UID:calendarize-lu-keramikas-studijas-vape-50-gadu-jubilejas-izstades-pilnbrieda-atklasana
DTSTAMP:20251020T135509Z

DTSTART:20251031T160000Z
DTEND:20251030T220000Z
    
SUMMARY:LU keramikas studijas "Vāpe" 50 gadu jubilejas izstādes "Pilnbriedā" atklāšana
DESCRIPTION:Latvijas Universitātes keramikas studija “Vāpe”\, svinot savu 50 gadu jubileju\, ir izveidojuši izstādi “Pilnbriedā” un aicina uz izstādes atklāšanu 31. oktobrī plkst. 18.00 Kultūras un tautas mākslas centrā “Ritums”.\nGadu gaitā studija priecējusi skatītājus ar izstādēm “Zeme”\, “Laiks”\, “Uguns”\, “Spēle. Spēles” un “Man tikai ziedēšana prātā”. Šogad\, jaunā vadītāja Raita Bobrova vadībā\, mākslinieki aicina uz jubilejas izstādi “Pilnbriedā” – par briedumu dabā\, cilvēka dzīvē un radošajā ceļā.\nIzstādes atklāšana – 31. oktobrī plkst. 18.00.Apskatāma katru dienu līdz 7. decembrim no plkst. 10.00 līdz 18.00 Jaunielā 29A\, Rīgā.\nStudija izveidojās pagājušā gadsimta 70. gados\, kad LU studenti\, pasniedzēji un darbinieki vēlējās pievērsties keramikai. 1975. gada martā\, mākslinieces Helgas Ingeborgas Melnbārdes vadībā\, Universitātes ēkā Raiņa bulvārī 19 darbu sāka keramikas studija\, kas 1980. gadā ieguva nosaukumu “Vāpe” – vārdu\, kas nozīmē “glazūra”. Piecus gadus vēlāk kolektīvs ieguva Tautas goda nosaukumu\, un kopš tā laika “Vāpe” regulāri rīko izstādes\, pētot un radoši interpretējot latviešu tradicionālo kultūras mantojumu mālā.\nUzziniet vairāk par LU keramikas studiju “Vāpe” šeit.
X-ALT-DESC;FMTTYPE=text/html:<p><strong>Latvijas Universitātes keramikas studija “Vāpe”\, svinot savu 50 gadu jubileju\, ir izveidojuši izstādi “Pilnbriedā” un aicina uz izstādes atklāšanu 31. oktobrī plkst. 18.00 Kultūras un tautas mākslas centrā “Ritums”.</strong></p>\n<p>Gadu gaitā studija priecējusi skatītājus ar izstādēm “Zeme”\, “Laiks”\, “Uguns”\, “Spēle. Spēles” un “Man tikai ziedēšana prātā”. Šogad\, jaunā vadītāja Raita Bobrova vadībā\, mākslinieki aicina uz jubilejas izstādi “Pilnbriedā” – par briedumu dabā\, cilvēka dzīvē un radošajā ceļā.</p>\n<p><strong>Izstādes atklāšana – 31. oktobrī plkst. 18.00.</strong><br /><strong>Apskatāma katru dienu līdz 7. decembrim no plkst. 10.00 līdz 18.00 Jaunielā 29A\, Rīgā.</strong></p>\n<p>Studija izveidojās pagājušā gadsimta 70. gados\, kad LU studenti\, pasniedzēji un darbinieki vēlējās pievērsties keramikai. 1975. gada martā\, mākslinieces Helgas Ingeborgas Melnbārdes vadībā\, Universitātes ēkā Raiņa bulvārī 19 darbu sāka keramikas studija\, kas 1980. gadā ieguva nosaukumu “Vāpe” – vārdu\, kas nozīmē “glazūra”. Piecus gadus vēlāk kolektīvs ieguva Tautas goda nosaukumu\, un kopš tā laika “Vāpe” regulāri rīko izstādes\, pētot un radoši interpretējot latviešu tradicionālo kultūras mantojumu mālā.</p>\n<p>Uzziniet vairāk par LU keramikas studiju “Vāpe” <a href="https://www.kultura.lu.lv/kolektivi/keramikas-studija-tlms-vape/" target="_blank">šeit</a>.</p>
LOCATION:Rīga\, Jauniela 29A
END:VEVENT

END:VCALENDAR