BEGIN:VCALENDAR
VERSION:2.0
PRODID:-//TYPO3/NONSGML Calendarize//EN


BEGIN:VEVENT
UID:calendarize-lu-darbinieku-rudens-pargajiens-medema-purva
DTSTAMP:20251001T145542Z

DTSTART:20251018T070000Z
DTEND:20251018T110000Z
    
SUMMARY:LU Darbinieku rudens pārgājiens Medema purvā
DESCRIPTION:Sestdien\, 2025. gada 18. oktobrī\, Latvijas Universitātes (LU) darbinieki kopā ar ģimenēm un draugiem aicināti piedalīties jau tradicionālajā LU Darbinieku pārgājienā. Šoreiz maršruts vedīs uz Medema purvu un tā apkārtni\, atgādinot\, ka arī Pierīgā ir lieliskas vietas pastaigām un atpūtai dabā.\nSestdien\, 18. oktobrī dodamies aptuveni 12 km garā maršrutā pa Medema purvu un tā apkārtni. Iepazīsim purva veidošanos\, kūdras ieguves vēsturi\, kādreizējā bānīša pēdas un daudzus citus interesantus faktus. Pēc pārgājiena visiem dalībniekiem būs iespēja sasildīties ar siltu zupu.\nTikšanās vieta: Rīgā\, Rītausmas ielā 5.Starts plkst. 10.00 (pulcēšanās no plkst. 9.45).Noslēgums ap plkst. 14.00.\nDalība tikai ar iepriekšēju reģistrēšanos – pieteikuma anketu aizpildi līdz 17. oktobra plkst. 8.59.Plašāk par pārgājienu lasi LU Sporta tīmekļvietnē. 
X-ALT-DESC;FMTTYPE=text/html:<p><strong>Sestdien\, 2025. gada 18. oktobrī\, Latvijas Universitātes (LU) darbinieki kopā ar ģimenēm un draugiem aicināti piedalīties jau tradicionālajā LU Darbinieku pārgājienā. Šoreiz maršruts vedīs uz Medema purvu un tā apkārtni\, atgādinot\, ka arī Pierīgā ir lieliskas vietas pastaigām un atpūtai dabā.</strong></p>\n<p class="text-justify">Sestdien\, 18. oktobrī dodamies aptuveni 12 km garā maršrutā pa Medema purvu un tā apkārtni. Iepazīsim purva veidošanos\, kūdras ieguves vēsturi\, kādreizējā bānīša pēdas un daudzus citus interesantus faktus. Pēc pārgājiena visiem dalībniekiem būs iespēja sasildīties ar siltu zupu.</p>\n<p class="text-justify">Tikšanās vieta: Rīgā\, Rītausmas ielā 5.<br />Starts plkst. 10.00 (pulcēšanās no plkst. 9.45).<br />Noslēgums ap plkst. 14.00.</p>\n<p class="text-justify">Dalība tikai ar iepriekšēju reģistrēšanos – <a href="https://docs.google.com/forms/d/e/1FAIpQLScae4dKM0gPa3NKJPrAPeiztzbLIa80KvDhJ6A_C2kHFcZ13g/viewform" target="_blank" rel="noreferrer"><strong>pieteikuma anketu</strong></a> aizpildi līdz 17. oktobra plkst. 8.59.<br />Plašāk par pārgājienu lasi <a href="https://www.lu.lv/sports/par-mums/zinas/zina/t/105427/" target="_blank"><strong>LU Sporta tīmekļvietnē.&nbsp\;</strong></a></p>
LOCATION:Medema purvs un tā apkārtne
END:VEVENT

END:VCALENDAR