BEGIN:VCALENDAR
VERSION:2.0
PRODID:-//TYPO3/NONSGML Calendarize//EN


BEGIN:VEVENT
UID:calendarize-lu-darbinieku-kopsapulce-20
DTSTAMP:20251209T105302Z

DTSTART:20260130T080000Z
DTEND:20260130T100000Z
    
SUMMARY:LU darbinieku kopsapulce
DESCRIPTION:Sapulcē LU saimi uzrunās Universitātes rektors prof. Gundars Bērziņš\, akcentējot LU attīstības virzienus un prioritātes. Tāpat paredzēta rektora pateicību un atzinību pasniegšana darbiniekiem par nozīmīgu ieguldījumu Universitātes darbā un attīstībā. \nDarbiniekiem\, kuriem nebūs iespējas piedalīties klātienē\, sapulcei varēs sekot tiešraidē LU tīmekļvietnē www.lu.lv. 
X-ALT-DESC;FMTTYPE=text/html:<p>Sapulcē LU saimi uzrunās Universitātes rektors prof. Gundars Bērziņš\, akcentējot LU attīstības virzienus un prioritātes. Tāpat paredzēta rektora pateicību un atzinību pasniegšana darbiniekiem par nozīmīgu ieguldījumu Universitātes darbā un attīstībā.&nbsp\;</p>\n<p>Darbiniekiem\, kuriem nebūs iespējas piedalīties klātienē\, sapulcei varēs sekot tiešraidē LU tīmekļvietnē <a class="Hyperlink SCXW173495119 BCX0" href="http://www.lu.lv/" target="_blank" rel="noreferrer noopener"><strong><u>www.lu.lv</u></strong></a>.&nbsp\;</p>
LOCATION:LU Dabas māja\, Jelgavas iela 1\, auditorija “Magnum”
END:VEVENT

END:VCALENDAR