BEGIN:VCALENDAR
VERSION:2.0
PRODID:-//TYPO3/NONSGML Calendarize//EN


BEGIN:VEVENT
UID:calendarize-lu-akademiskais-apgads-piedalasrigas-gramatu-svetkos-20251024
DTSTAMP:20251021T135547Z

DTSTART:20251024T070000Z
DTEND:20251024T170000Z
    
SUMMARY:LU Akadēmiskais apgāds piedalās"Rīgas Grāmatu svētkos"
DESCRIPTION:LU Akadēmiskais apgāds aicina uz “Rīgas Grāmatu svētkiem – Rudens 2025”\, kas notiks 24. un 25. oktobrī Latvijas Nacionālajā bibliotēkā (Mūkusalas ielā 3\, Rīgā).\nLU Akadēmiskais apgāds Rīgas Grāmatu svētkos piedāvās gandrīz 80 dažādus izdevumus. \nJaunākie no tiem:\n Aivara Strangas monogrāfija “Latvija: liktenīgo lēmumu laiks. Okupācija. 1939–1940”\;Benitas Laumanes monogrāfija “Identitātes meklējumi: Nīcas\, Otaņķu\, Pērkones mājvārdi un uzvārdi”\;Žurnāls Zvaigžņotā Debess. 2025. Rudens (269)\;Latvijas Universitātes Žurnāls. Vēsture. 2025 (19)\;“Abas krāsas vienā tonī. Glezniecības optiskās struktūras”\, autors Andris Začests.\nAtkal tirdzniecībā pieejamas lasītāju pieprasītās grāmatas:\n“Cilvēka anatomija. Roka. Kāja”\, autori Gundega Knipše\, Džanna Krūmiņa\, Miervaldis Kaminskis\, Sarmīte Boka\, Jānis Šavlovskis\;Ojārs Āboltiņš\, Ervīns Lukševičs. “Zeme pēdējos 540 miljonos gadu”.
X-ALT-DESC;FMTTYPE=text/html:<p>LU Akadēmiskais apgāds aicina uz “Rīgas Grāmatu svētkiem&nbsp\;– Rudens 2025”\, kas notiks<strong> 24. un 25. oktobr</strong>ī Latvijas Nacionālajā bibliotēkā (Mūkusalas ielā 3\, Rīgā).</p>\n<p>LU Akadēmiskais apgāds Rīgas Grāmatu svētkos piedāvās gandrīz 80 dažādus izdevumus.&nbsp\;</p>\n<p>Jaunākie no tiem:</p>\n<ul><li><span>&nbsp\;Aivara Strangas monogrāfija “Latvija: liktenīgo lēmumu laiks. Okupācija. 1939–1940”\;</span></li><li><span>Benitas Laumanes monogrāfija “Identitātes meklējumi: Nīcas\, Otaņķu\, Pērkones mājvārdi un uzvārdi”\;</span></li><li><span>Žurnāls </span><i><span>Zvaigžņotā Debess. 2025. Rudens</span></i><span> (269)\;</span></li><li><i><span>Latvijas Universitātes Žurnāls. Vēsture.</span></i><span> </span><i><span>2025</span></i><span> (19)\;</span></li><li><span>“Abas krāsas vienā tonī. Glezniecības optiskās struktūras”\, autors Andris Začests.</span></li></ul>\n<p>Atkal tirdzniecībā pieejamas lasītāju pieprasītās grāmatas:</p>\n<ul><li><span>“Cilvēka anatomija. Roka. Kāja”\, autori Gundega Knipše\, Džanna Krūmiņa\, Miervaldis Kaminskis\, Sarmīte Boka\, Jānis Šavlovskis\;</span></li><li><span>Ojārs Āboltiņš\, Ervīns Lukševičs. “Zeme pēdējos 540 miljonos gadu”.</span></li></ul>
LOCATION:Latvijas Nacionālā bibliotēka (www.lnb.lv)
END:VEVENT

END:VCALENDAR