BEGIN:VCALENDAR
VERSION:2.0
PRODID:-//TYPO3/NONSGML Calendarize//EN


BEGIN:VEVENT
UID:calendarize-lu-absolventu-kluba-10-gadu-jubileja
DTSTAMP:20250929T114411Z

DTSTART:20251024T120000Z
DTEND:20251023T210000Z
    
SUMMARY:LU Absolventu kluba 10 gadu jubileja
DESCRIPTION:
X-ALT-DESC;FMTTYPE=text/html:
LOCATION:Kalpaka bulvārī 4
END:VEVENT

END:VCALENDAR