BEGIN:VCALENDAR
VERSION:2.0
PRODID:-//TYPO3/NONSGML Calendarize//EN


BEGIN:VEVENT
UID:calendarize-kristine-casno-aizstav-promocijas-darbu
DTSTAMP:20251215T104358Z

DTSTART:20251212T120000Z
DTEND:20251212T140000Z
    
SUMMARY:Kristīne Casno aizstāv promocijas darbu
DESCRIPTION:Recenzenti:\nMargarita Dunska\, Dr. oec.\, profesore\, Latvijas Universitāte\;Tatjana Muravska\, Dr. oec.\, profesore\, Rīgas Stradiņa universitāte\;Ligita Šimanskiene (Ligita Šimanskienė)\, Dr. sc. admin.\, profesore\, Klaipēdas Universitāte.\nAr promocijas darbu var iepazīties LU bibliotēkā Rīgā\, Raiņa bulvārī 19.
X-ALT-DESC;FMTTYPE=text/html:<p><strong>Recenzenti:</strong></p>\n<ol><li>Margarita Dunska\, <i>Dr. oec.</i>\, profesore\, Latvijas Universitāte\;</li><li>Tatjana Muravska\, <i>Dr. oec.</i>\, profesore\, Rīgas Stradiņa universitāte\;</li><li>Ligita Šimanskiene (<i>Ligita Šimanskienė</i>)\, <i>Dr. sc. admin.\,</i>&nbsp\;profesore\, Klaipēdas Universitāte.</li></ol>\n<p>Ar promocijas darbu var iepazīties LU bibliotēkā Rīgā\, Raiņa bulvārī 19.</p>
LOCATION:322. auditorija\, Aspazijas bulvāris 5
END:VEVENT

END:VCALENDAR