BEGIN:VCALENDAR
VERSION:2.0
PRODID:-//TYPO3/NONSGML Calendarize//EN


BEGIN:VEVENT
UID:calendarize-konference-biophot-latvijas-inovaciju-tramplins-1
DTSTAMP:20251121T151325Z

DTSTART:20251124T070000Z
DTEND:20251124T111300Z
    
SUMMARY:Konference "BioPhoT - Latvijas inovāciju tramplīns"
DESCRIPTION:Konferencē būs iespēja iepazīt pirmos 40 “BioPhoT” platformas finansējumu ieguvušos pētniecības un inovāciju projektus. Tie ietver sepses\, vēža un infekciju diagnostiku\, jaunus sensorus un medicīniskās ierīces\, optisko šķiedru risinājumus\, luminiscējošus pārklājumus\, infrasarkanās spektroskopijas tehnoloģijas\, inovatīvus biomateriālus un kompozītus\, vides un enerģētikas un citas inovācijas. \nKonference notiks Rīgas Tehniskās universitātes Zinātnes inovāciju centrā\, “Moon” zālē no plkst. 9.00 līdz 13.30. Reģistrācija dalībai konferencē:\nklātienē: https://luma.com/nekvft5htiešsaistē “Zoom” platformā: https://ej.uz/biophotinovacijutramplins2025\nKonference norisināsies angļu valodā\, dalība – bez maksas. \nPlašāka informācija: www.biophot.lv 
X-ALT-DESC;FMTTYPE=text/html:<p>Konferencē būs iespēja iepazīt pirmos 40 “BioPhoT” platformas finansējumu ieguvušos pētniecības un inovāciju projektus. Tie ietver sepses\, vēža un infekciju diagnostiku\, jaunus sensorus un medicīniskās ierīces\, optisko šķiedru risinājumus\, luminiscējošus pārklājumus\, infrasarkanās spektroskopijas tehnoloģijas\, inovatīvus biomateriālus un kompozītus\, vides un enerģētikas un citas inovācijas.&nbsp\;</p>\n<p>Konference notiks Rīgas Tehniskās universitātes Zinātnes inovāciju centrā\, “Moon” zālē no plkst. 9.00 līdz 13.30. Reģistrācija dalībai konferencē:</p>\n<ul><li>klātienē: <a href="https://luma.com/nekvft5h">https://luma.com/nekvft5h</a></li><li>tiešsaistē “Zoom” platformā: <a href="https://ej.uz/biophotinovacijutramplins2025">https://ej.uz/biophotinovacijutramplins2025</a></li></ul>\n<p>Konference norisināsies angļu valodā\, dalība – bez maksas.&nbsp\;</p>\n<p>Plašāka informācija: <a href="https://biophot.lv/konference-biophot-latvijas-inovaciju-tramplins-iepazistinas-ar-latvija-toposajam-inovacijam/" target="_blank">www.biophot.lv&nbsp\;</a></p>
LOCATION:Rīgas Tehniskās universitātes Zinātnes inovāciju centrā\, “Moon” zālē
END:VEVENT

END:VCALENDAR