BEGIN:VCALENDAR
VERSION:2.0
PRODID:-//TYPO3/NONSGML Calendarize//EN


BEGIN:VEVENT
UID:calendarize-ekonomikas-un-socialo-zinatnu-fakultates-ziemas-izlaidumi-1
DTSTAMP:20251211T110523Z

DTSTART:20260212T080000Z
DTEND:20260212T150000Z
    
SUMMARY:Ekonomikas un sociālo zinātņu fakultātes ziemas izlaidumi
DESCRIPTION:Plkst. 10.00:\n„Komunikācijas zinātne” – bakalaura studiju programma\;„Sociālais darbs„ – profesionālā bakalaura studiju programma (LU Cēsu un Kuldīgas filiāles)\;„Sociālais darbs" – profesionālā maģistra studiju programma.\nPlkst. 12.00:\n“Starptautiskais bizness” - profesionālā maģistra studiju programma\;"Eiropas studijas un ekonomiskā diplomātija" - maģistra studiju programma\;"Grāmatvedība\, analīze un audits" – bakalaura studiju programma\;"Finanšu menedžments" – profesionālā bakalaura studiju programma\;"E-biznesa vadība" - profesionālā bakalaura studiju programma\;"Biznesa vadība" – bakalaura studiju programma (latviešu un ārvalstu studenti)\;"Starptautiskā ekonomika un komercdiplomātija" – bakalaura studiju programma (latviešu un ārvalstu studenti)\;\nPlkst. 15.00:\n"Sabiedrības vadība"\, apakšprogramma "Tiesībaizsardzības\, kriminālsodu izpildes un glābšanas dienestu vadība" -  maģistra studiju programma.
X-ALT-DESC;FMTTYPE=text/html:<p><strong>Plkst. 10.00:</strong></p>\n<ul><li>„Komunikācijas zinātne” – bakalaura studiju programma\;</li><li>„Sociālais darbs„ – profesionālā bakalaura studiju programma (LU Cēsu un Kuldīgas filiāles)\;</li><li>„Sociālais darbs" – profesionālā maģistra studiju programma.</li></ul>\n<p><br /><strong>Plkst. 12.00:</strong></p>\n<ul><li>“Starptautiskais bizness” - profesionālā maģistra studiju programma\;</li><li>"Eiropas studijas un ekonomiskā diplomātija" - maģistra studiju programma\;</li><li>"Grāmatvedība\, analīze un audits" – bakalaura studiju programma\;</li><li>"Finanšu menedžments" – profesionālā bakalaura studiju programma\;</li><li>"E-biznesa vadība" - profesionālā bakalaura studiju programma\;</li><li>"Biznesa vadība" – bakalaura studiju programma (latviešu un ārvalstu studenti)\;</li><li>"Starptautiskā ekonomika un komercdiplomātija" – bakalaura studiju programma (latviešu un ārvalstu studenti)\;</li></ul>\n<p><br /><strong>Plkst. 15.00:</strong></p>\n<ul><li>"Sabiedrības vadība"\, apakšprogramma "Tiesībaizsardzības\, kriminālsodu izpildes un glābšanas dienestu vadība" - &nbsp\;maģistra studiju programma.</li></ul>
LOCATION:LU Lielā aula\, Raiņa bulvāris 19
END:VEVENT

END:VCALENDAR