BEGIN:VCALENDAR
VERSION:2.0
PRODID:-//TYPO3/NONSGML Calendarize//EN


BEGIN:VEVENT
UID:calendarize-diskusija-ka-politiska-regulejuma-un-tirgus-parmainas-ietekme-atkaribu-izraisoso-vielu-lietosanu-sabiedriba-1
DTSTAMP:20250408T150309Z

DTSTART:20250409T080000Z
DTEND:20250409T100000Z
    
SUMMARY:Diskusija ''Kā politiskā regulējuma un tirgus pārmaiņas ietekmē atkarību izraisošo vielu lietošanu sabiedrībā?''
DESCRIPTION:9. aprīlī plkst. 11.00 Latvijas Universitātes (LU) telpās Kalpaka bulvārī 4\, 327. auditorijā\, norisināsies jau ceturtā LU Ekonomikas un sociālo zinātņu fakultātes (ESZF) Sociālo un politisko pētījumu centra (SPPI) pētnieku grupas rīkotā multidisciplinārā diskusija “Kā politiskā regulējuma un tirgus pārmaiņas ietekmē atkarību izraisošo vielu lietošanu sabiedrībā?”\nLaipni aicināti piedalīties visi interesenti! Diskusijai būs iespējams sekot līdzi arī tiešsaistē - LU ESZF “Facebook” lapā.
X-ALT-DESC;FMTTYPE=text/html:<p><strong>9. aprīlī plkst. 11.00 Latvijas Universitātes (LU) telpās Kalpaka bulvārī 4\, 327. auditorijā\, norisināsies jau ceturtā LU Ekonomikas un sociālo zinātņu fakultātes (ESZF) Sociālo un politisko pētījumu centra (SPPI) pētnieku grupas rīkotā multidisciplinārā diskusija “Kā politiskā regulējuma un tirgus pārmaiņas ietekmē atkarību izraisošo vielu lietošanu sabiedrībā?”</strong></p>\n<p class="text-justify">Laipni aicināti piedalīties visi interesenti! Diskusijai būs iespējams sekot līdzi arī tiešsaistē - <a href="https://www.facebook.com/lueszf" target="_blank" rel="noreferrer"><strong>LU ESZF “Facebook” lapā</strong></a>.</p>
LOCATION:327. auditorija\, Kalpaka bulvāris 4
END:VEVENT

END:VCALENDAR