BEGIN:VCALENDAR
VERSION:2.0
PRODID:-//TYPO3/NONSGML Calendarize//EN


BEGIN:VEVENT
UID:calendarize-default-be8fa0484052b4465113b85d46514acd
DTSTAMP:20251126T114212Z

DTSTART;VALUE=DATE:20251201
DTEND;VALUE=DATE:20251202
    
SUMMARY:Radio NABA svin 23. gadadienu
DESCRIPTION:Diena tiks veidota kā nepārtraukts skaņas\, vārda un eksperimentu plūdums – dzīvie koncerti\, dzejas lasījumi\, ētera instruktoru sarunas\, intervijas un klausītāju iesaiste interaktīvās aktivitātēs.\nMuzikālā programma:\n12.30 – ALEJAS13.30 – DIFŪZIJA14.30 – SUZANNA15.30 – EIII16.30 – LAIKI17.30 – ZVĪŅAS18.30 – SERŽANTS BĒDA19.30 – VAAKS / VAKUUMS20.30 – TRĪSAS\nPie radio studijas pults un mikrofoniem dienas garumā stāsies plaša Radio NABA komanda no raidījumiem: “Nabarīts”\, “Studentu pietura”\, “Subharmonija”\, “Kinetic”\, “KŪL”\, “Bitīt matos”\, “Subjektīvie mērījumi”\, “Top 10/25”\, “Bron-hīts”\, un svētku vakaru noslēgs raidījumi “Stacija OB” un “Astoņi pustoņi”.\nKlausītāji varēs sagaidīt viesus ēterā\, konkursus\, spēles\, ekskluzīvas sarunas un neparedzamus pārsteigumus\, kas raksturīgi Radio NABA radošajam garam.\nSvētku programmu varēs klausīties Radio NABA FM 95\,8\, naba.lv\, Radio NABA Youtube kanālā un vērot portālā REplay.lv un sociālo tīklu kontos.\nAtgādinām\, ka Radio NABA 23. gadadienas ietvaros 27. novembrī plkst. 18.00 Āgenskalna tirgū notiks fotoizstāde par tēmu “BALSS” atklāšana. \nLR6 - LU Radio NABA ir atvērts\, nekomerciāls medijs\, kas atspoguļo kultūras\, urbāni inteliģentās vides\, studentijas un alternatīvā dzīvesveida procesus un norises kvalitatīvā\, dzīvā un dinamiskā veidā. Radio NABA ir brīvā formāta programma\, kas Latvijas Radio FM viļņos skan kopš 2002. gada 1. decembra. NABA ir radio cilvēkiem\, kurus interesē kas vairāk par standarta komercproduktu gan mūzikā\, gan informācijā. Programmā klausītājiem pieejami vairāk nekā 50 regulāri raidījumi.\nEksperimentāls mākslas un skaņas maratons “NABA RAIDA XXIII” tiek realizēts ar Valsts kultūrkapitāla fonda\, Latvijas Universitātes un Latvijas Sabiedriskā medija atbalstu.
X-ALT-DESC;FMTTYPE=text/html:<p class="text-justify">Diena tiks veidota kā nepārtraukts skaņas\, vārda un eksperimentu plūdums – dzīvie koncerti\, dzejas lasījumi\, ētera instruktoru sarunas\, intervijas un klausītāju iesaiste interaktīvās aktivitātēs.</p>\n<h3 class="text-justify"><strong>Muzikālā programma:</strong></h3>\n<p class="text-justify">12.30 – ALEJAS<br />13.30 – DIFŪZIJA<br />14.30 – SUZANNA<br />15.30 – EIII<br />16.30 – LAIKI<br />17.30 – ZVĪŅAS<br />18.30 – SERŽANTS BĒDA<br />19.30 – VAAKS / VAKUUMS<br />20.30 – TRĪSAS</p>\n<p class="text-justify">Pie radio studijas pults un mikrofoniem dienas garumā stāsies plaša Radio NABA komanda no raidījumiem: “Nabarīts”\, “Studentu pietura”\, “Subharmonija”\, “Kinetic”\, “KŪL”\, “Bitīt matos”\, “Subjektīvie mērījumi”\, “Top 10/25”\, “Bron-hīts”\, un svētku vakaru noslēgs raidījumi “Stacija OB” un “Astoņi pustoņi”.</p>\n<p class="text-justify">Klausītāji varēs sagaidīt viesus ēterā\, konkursus\, spēles\, ekskluzīvas sarunas un neparedzamus pārsteigumus\, kas raksturīgi Radio NABA radošajam garam.</p>\n<p>Svētku programmu varēs klausīties Radio NABA FM 95\,8\, <a href="http://naba.lv/" target="_blank" rel="noreferrer"><strong><u>naba.lv</u></strong></a>\, <a href="https://www.youtube.com/watch?v=jYnT-w2YS5c" target="_blank" rel="noreferrer"><strong>Radio NABA Youtube kanālā</strong></a><strong> </strong>un vērot portālā REplay.lv un sociālo tīklu kontos.</p>\n<p>Atgādinām\, ka Radio NABA 23. gadadienas ietvaros 27. novembrī plkst. 18.00 Āgenskalna tirgū notiks fotoizstāde par tēmu “BALSS” atklāšana.&nbsp\;</p>\n<p>LR6 - LU Radio NABA ir atvērts\, nekomerciāls medijs\, kas atspoguļo kultūras\, urbāni inteliģentās vides\, studentijas un alternatīvā dzīvesveida procesus un norises kvalitatīvā\, dzīvā un dinamiskā veidā. Radio NABA ir brīvā formāta programma\, kas Latvijas Radio FM viļņos skan kopš 2002. gada 1. decembra. NABA ir radio cilvēkiem\, kurus interesē kas vairāk par standarta komercproduktu gan mūzikā\, gan informācijā. Programmā klausītājiem pieejami vairāk nekā 50 regulāri raidījumi.</p>\n<p class="text-justify">Eksperimentāls mākslas un skaņas maratons “NABA RAIDA XXIII” tiek realizēts ar Valsts kultūrkapitāla fonda\, Latvijas Universitātes un Latvijas Sabiedriskā medija atbalstu.</p>
LOCATION:
END:VEVENT

END:VCALENDAR