BEGIN:VCALENDAR
VERSION:2.0
PRODID:-//TYPO3/NONSGML Calendarize//EN


BEGIN:VEVENT
UID:calendarize-default-152238698f640142e46b242a015ed85d
DTSTAMP:20251114T151323Z

DTSTART;VALUE=DATE:20251113
DTEND;VALUE=DATE:20251118
    
SUMMARY:Starptautiskās komandu sacensības matemātikā „Baltic Way 2025"
DESCRIPTION:Sacensībās piedalīsies skolēnu komandas no 11 valstīm: Dānijas\, Igaunijas\, Islandes\, Lietuvas\, Norvēģijas\, Polijas\, Somijas\, Ukrainas\, Vācijas\, Zviedrijas un\, protams\, Latvijas.\nAtšķirībā no klasiskajām matemātikas olimpiādēm\, kurās piedalās individuālie risinātāji\, “Baltic Way” ir komandu sacensības\, kurās pieci risinātāji\, savā starpā konsultējoties\, 4\,5 stundu laikā risina un iesniedz risinājumus 20 uzdevumiem. Skaidrs\, ka šādi nosacījumi prasa ne tikai matemātiskās zināšanas un ātru reakciju\, bet arī prasmi sadarboties\, uztvert citu idejas un tās realizēt\, racionāli plānot laiku un spēkus.\nŠogad Latviju olimpiādē pārstāv:\nReinis Bartkevičs (Rīgas Valsts 1. ģimnāzija\, 10. klase)\;Gustavs Gritāns (Rīgas Valsts 1. ģimnāzija\, 11. klase)\;Petr Shvab (RTU Starptautiskā zinātņu un tehnoloģiju skola\, 11. klase)\;Vsevolods Ščadilovs (Rīgas Valsts 1. ģimnāzija\, 12. klase)\;Ēriks Ariels Šulzingers (Jelgavas Tehnoloģiju vidusskola\, 9. klase).\nKomandas vadītājs Alfrēds Saročinskis un vadītāja vietnieks Petrs Gabunija\, kas paši kādreiz bijuši Baltic Way dalībnieki.\nVairāk informācijas.\nPasākums tiek īstenots ESF Plus projekta Nr. 4.2.2.3/1/24/I/001 “Pedagogu profesionālai atbalsta sistēmas izveide” ietvaros sadarbībā ar Latvijas Universitāti.\nPasākumu atbalsta:\nJane StreetPranamatVendenBrain Games
X-ALT-DESC;FMTTYPE=text/html:<p>Sacensībās piedalīsies skolēnu komandas no 11 valstīm: Dānijas\, Igaunijas\, Islandes\, Lietuvas\, Norvēģijas\, Polijas\, Somijas\, Ukrainas\, Vācijas\, Zviedrijas un\, protams\, Latvijas.</p>\n<p>Atšķirībā no klasiskajām matemātikas olimpiādēm\, kurās piedalās individuālie risinātāji\, “Baltic Way” ir komandu sacensības\, kurās pieci risinātāji\, savā starpā konsultējoties\, 4\,5 stundu laikā risina un iesniedz risinājumus 20 uzdevumiem. Skaidrs\, ka šādi nosacījumi prasa ne tikai matemātiskās zināšanas un ātru reakciju\, bet arī prasmi sadarboties\, uztvert citu idejas un tās realizēt\, racionāli plānot laiku un spēkus.</p>\n<p><strong>Šogad Latviju olimpiādē pārstāv:</strong></p>\n<ul><li>Reinis Bartkevičs (Rīgas Valsts 1. ģimnāzija\, 10. klase)\;</li><li>Gustavs Gritāns (Rīgas Valsts 1. ģimnāzija\, 11. klase)\;</li><li>Petr Shvab (RTU Starptautiskā zinātņu un tehnoloģiju skola\, 11. klase)\;</li><li>Vsevolods Ščadilovs (Rīgas Valsts 1. ģimnāzija\, 12. klase)\;</li><li>Ēriks Ariels Šulzingers (Jelgavas Tehnoloģiju vidusskola\, 9. klase).</li></ul>\n<p>Komandas vadītājs Alfrēds Saročinskis un vadītāja vietnieks Petrs Gabunija\, kas paši kādreiz bijuši Baltic Way dalībnieki.</p>\n<p><a href="https://bw2025.lu.lv/" target="_blank"><strong>Vairāk informācijas.</strong></a></p>\n<p><i>Pasākums tiek īstenots ESF Plus projekta Nr. 4.2.2.3/1/24/I/001 “Pedagogu profesionālai atbalsta sistēmas izveide” ietvaros sadarbībā ar Latvijas Universitāti.</i></p>\n<p>Pasākumu atbalsta:</p>\n<ul><li><a href="https://www.janestreet.com/" target="_blank" rel="noreferrer"><strong>Jane Street</strong></a></li><li><a href="https://pranamat.lv/" target="_blank" rel="noreferrer"><strong>Pranamat</strong></a></li><li><a href="https://www.venden.lv/" target="_blank" rel="noreferrer"><strong>Venden</strong></a></li><li><a href="https://www.brain-games.lv/" target="_blank" rel="noreferrer"><strong>Brain Games</strong></a></li></ul>
LOCATION:LU EZTF
END:VEVENT

END:VCALENDAR