BEGIN:VCALENDAR
VERSION:2.0
PRODID:-//TYPO3/NONSGML Calendarize//EN


BEGIN:VEVENT
UID:calendarize-darbnica-colours-and-life-in-the-universe
DTSTAMP:20250807T134410Z

DTSTART;VALUE=DATE:20251120
DTEND;VALUE=DATE:20251124
    
SUMMARY:Darbnīca “Colours and Life in The Universe”
DESCRIPTION:Tu esi students vai jaunais zinātnieks\, kuram interesē atkost Visuma noslēpumus? Pievienojies mums darbnīcā “Colours and Life in The Universe” no 20. līdz 23. novembrim Rīgā\, Zinātņu mājā un Baldones observatorijā!\nTev būs iespēja uzzināt vairāk par plašo informāciju\, kas ir paslēpta dažnedažādos objektu spektros gan kaimiņos – Saulē\, Mēnesī\, planētās\, asteroīdos -\, gan arī tālās zvaigznēs un galaktikās. Papildus tam\, Tev būs iespēja veikt pašam savus novērojumus ar dažādiem teleskopiem (pat ar lielo Baldones Šmita teleskopu)\, iemācīties analizēt spektroskopiskos datus un atrast dzīvības pazīmes tajos\, kā arī strādāt komandā\, lai izstrādātu un prezentētu pašiem savu projektu.\nUzzināt vairāk par darbnīcu "Colours and Life in The Universe'.
X-ALT-DESC;FMTTYPE=text/html:<p><strong>Tu esi students vai jaunais zinātnieks\, kuram interesē atkost Visuma noslēpumus? Pievienojies mums darbnīcā “Colours and Life in The Universe” no 20. līdz 23. novembrim Rīgā\, Zinātņu mājā un Baldones observatorijā!</strong></p>\n<p>Tev būs iespēja uzzināt vairāk par plašo informāciju\, kas ir paslēpta dažnedažādos objektu spektros gan kaimiņos – Saulē\, Mēnesī\, planētās\, asteroīdos -\, gan arī tālās zvaigznēs un galaktikās. Papildus tam\, Tev būs iespēja veikt pašam savus novērojumus ar dažādiem teleskopiem (pat ar lielo Baldones Šmita teleskopu)\, iemācīties analizēt spektroskopiskos datus un atrast dzīvības pazīmes tajos\, kā arī strādāt komandā\, lai izstrādātu un prezentētu pašiem savu projektu.</p>\n<p><a href="https://www.erachair.lu.lv/workshop-2025/workshop-2025/"><strong>Uzzināt vairāk par darbnīcu "Colours and Life in The Universe'.</strong></a></p>
LOCATION:LU Zinātņu māja un Baldones observatorija
END:VEVENT

END:VCALENDAR