BEGIN:VCALENDAR
VERSION:2.0
PRODID:-//TYPO3/NONSGML Calendarize//EN


BEGIN:VEVENT
UID:calendarize-basketbola-spele-latvijas-universitate-valmiera-glass-via
DTSTAMP:20251016T152403Z

DTSTART:20251019T140000Z
DTEND:20251019T160000Z
    
SUMMARY:Basketbola spēle: "Latvijas Universitāte" -"Valmiera Glass VIA"
DESCRIPTION:Sestdien\, 19. oktobrī\, plkst. 17.00.O. Kalpaka Rīgas Tautas daiļamatu pamatskola\, Skrindu iela 1.\nSagaidāms īsts basketbola svētku vakars — par skatītāju noskaņojumu un enerģiju tribīnēs rūpēsies LU karsējmeitenesar aizraujošiem priekšnesumiem\, būs konkursi\, aktivitātes un pārsteigumi visai ģimenei. Protams\, mazākajiem līdzjutējiem arī netrūks izklaides — spēles laikā viņus gaidīs īpašs bērnu stūrītis ar jautrām nodarbēm! \nBiļetes aicinām iegādāties savlaicīgi vietnē lolo.id. \nIeejas maksa pieaugušajiem - 5 EUR. \n3\,75 EUR - skolēniem\, studentiem\, pensionāriem\, ‘’3+ goda ģimenes'' kartes īpašniekiem\, maznodrošinātā statusa īpašniekiem. \nBezmaksas ieeja - bērniem līdz 6 g.v. (ieskaitot)\, personām ar invaliditāti. \nLai atbalstītu jauniešu sportu visas sezonas garumā\, aicinām iegādāties arī sezonas abonementu\, kas ļaus nepalaist garām nevienu mājas spēli. \nLU basketbola komandu atbalsta: Teamsport.lv\, Sportland\, VPLab\, ProBaller\, Venden\, LU Fonds. \nNāc un atbalsti LU komandu!
X-ALT-DESC;FMTTYPE=text/html:<p class="text-justify">Sestdien\, 19. oktobrī\, plkst. 17.00.<br />O. Kalpaka Rīgas Tautas daiļamatu pamatskola\, Skrindu iela 1.</p>\n<p class="text-justify">Sagaidāms īsts basketbola svētku vakars — par skatītāju noskaņojumu un enerģiju tribīnēs rūpēsies LU karsējmeitenesar aizraujošiem priekšnesumiem\, būs konkursi\, aktivitātes un pārsteigumi visai ģimenei. Protams\, mazākajiem līdzjutējiem arī netrūks izklaides — spēles laikā viņus gaidīs īpašs bērnu stūrītis ar jautrām nodarbēm!&nbsp\;</p>\n<p class="text-justify"><strong>Biļetes</strong> aicinām iegādāties savlaicīgi vietnē <a class="Hyperlink SCXW107163970 BCX4" href="https://lolo.id/events/8a947fd1-0675-4285-812a-a2b55089fded/" target="_blank" rel="noreferrer noopener"><strong>lolo.id</strong></a>.&nbsp\;</p>\n<p class="text-justify">Ieejas maksa pieaugušajiem - 5 EUR.&nbsp\;</p>\n<p class="text-justify">3\,75 EUR - skolēniem\, studentiem\, pensionāriem\, ‘’3+ goda ģimenes'' kartes īpašniekiem\, maznodrošinātā statusa īpašniekiem.&nbsp\;</p>\n<p class="text-justify">Bezmaksas ieeja - bērniem līdz 6 g.v. (ieskaitot)\, personām ar invaliditāti.&nbsp\;</p>\n<p class="text-justify">Lai atbalstītu jauniešu sportu visas sezonas garumā\, aicinām iegādāties arī <a class="Hyperlink SCXW107163970 BCX4" href="https://lolo.id/events/sp-03735c1e-35f9-4cf7-a1ea-827d7c82fc5e/" target="_blank" rel="noreferrer noopener"><strong>sezonas abonementu</strong></a>\, kas ļaus nepalaist garām nevienu mājas spēli.&nbsp\;</p>\n<p class="text-justify">LU basketbola komandu atbalsta: Teamsport.lv\, Sportland\, VPLab\, ProBaller\, Venden\, LU Fonds.&nbsp\;</p>\n<p class="text-justify">Nāc un atbalsti LU komandu!</p>
LOCATION:O. Kalpaka Rīgas Tautas daiļamatu pamatskola\, Skrindu iela 1
END:VEVENT

END:VCALENDAR