BEGIN:VCALENDAR
VERSION:2.0
PRODID:-//TYPO3/NONSGML Calendarize//EN


BEGIN:VEVENT
UID:calendarize-atverta-lekcija-scientific-presentations
DTSTAMP:20260305T142958Z

DTSTART:20260324T083000Z
DTEND:20260324T101000Z
    
SUMMARY:Atvērtā lekcija "Scientific presentations"
DESCRIPTION:Lekcijas tēma "Scientific presentations".Lekcija angļu valodā.Atklātā lekcija tiek piedāvāta studiju kursa "Aktualitātes fizikā un astronomijā" ietvaros. Maģistra studiju programma "Fizika".\nLekcija notiks plkst. 10.30–12.10 (LU Zinātņu māja\, Jelgavas iela 3\, 204. auditorija).Pieteikties lekcijai.Plašāka informācija par atvērtajām lekcijām.
X-ALT-DESC;FMTTYPE=text/html:<p>Lekcijas tēma "Scientific presentations".<br /><br />Lekcija angļu valodā.<br />Atklātā lekcija tiek piedāvāta studiju kursa "Aktualitātes fizikā un astronomijā"&nbsp\;ietvaros.&nbsp\;<br />Maģistra studiju programma "Fizika".</p>\n<p>Lekcija notiks plkst. 10.30–12.10 (LU Zinātņu māja\, Jelgavas iela 3\, 204. auditorija).<br /><br /><a href="https://forms.office.com/pages/responsepage.aspx?id=RE6EJpfSaECjKUUc6GIx8SDoiE7CMVZLihjv6MH77GRUREZHOTZEMkRNUk8xV1ZKMzhBUURZREkyUi4u&amp\;route=shorturl" target="_blank" rel="noreferrer"><strong>Pieteikties lekcijai.</strong></a><br /><br /><a href="https://www.lu.lv/gribustudet/atvertas-lekcijas/" target="_blank"><strong>Plašāka informācija par atvērtajām lekcijām.</strong></a></p>
LOCATION:LU Zinātņu māja\, Jelgavas iela 3\, 204. auditorija 
END:VEVENT

END:VCALENDAR