BEGIN:VCALENDAR
VERSION:2.0
PRODID:-//TYPO3/NONSGML Calendarize//EN


BEGIN:VEVENT
UID:calendarize-atverta-lekcija-scientific-models-and-modeling-in-science-education
DTSTAMP:20260305T153149Z

DTSTART:20260326T080000Z
DTEND:20260326T100000Z
    
SUMMARY:Atvērtā lekcija "Scientific Models and Modeling in Science Education"
DESCRIPTION:Lekcijas tēma "Scientific Models and Modeling in Science Education".Lekcija angļu valodā.Semināru vadīs prof. Mark Lattery (University of Wisconsin-Oshkosh)\, grāmatas Deep Learning in Introductory Physics autors un organizācijas Modeling Teachers International prezidents.Maģistra studiju programma "Fizika".\nLekcija notiks plkst. 10.00–12.00 (LU Zinātņu māja\, Jelgavas iela 3\, 202. auditorija).Pieteikties lekcijai.Plašāka informācija par atvērtajām lekcijām.
X-ALT-DESC;FMTTYPE=text/html:<p>Lekcijas tēma "Scientific Models and Modeling in Science Education".<br /><br />Lekcija angļu valodā.<br />Semināru vadīs prof. <i>Mark Lattery</i> (<i>University of Wisconsin-Oshkosh</i>)\, grāmatas <i>Deep Learning in Introductory Physics</i> autors un organizācijas <i>Modeling Teachers International </i>prezidents.<br />Maģistra studiju programma "Fizika".</p>\n<p>Lekcija notiks plkst. 10.00–12.00 (LU Zinātņu māja\, Jelgavas iela 3\, 202. auditorija).<br /><br /><a href="https://forms.office.com/pages/responsepage.aspx?id=RE6EJpfSaECjKUUc6GIx8SDoiE7CMVZLihjv6MH77GRUREZHOTZEMkRNUk8xV1ZKMzhBUURZREkyUi4u&amp\;route=shorturl" target="_blank" rel="noreferrer"><strong>Pieteikties lekcijai.</strong></a><br /><br /><a href="https://www.lu.lv/gribustudet/atvertas-lekcijas/" target="_blank"><strong>Plašāka informācija par atvērtajām lekcijām.</strong></a></p>
LOCATION:LU Zinātņu māja\, Jelgavas iela 3\, 202. auditorija
END:VEVENT

END:VCALENDAR