BEGIN:VCALENDAR
VERSION:2.0
PRODID:-//TYPO3/NONSGML Calendarize//EN


BEGIN:VEVENT
UID:calendarize-atverta-lekcija-latviesi-seit-un-pasaule-kultura-un-tradicijas
DTSTAMP:20260306T074100Z

DTSTART:20260323T161500Z
DTEND:20260323T174500Z
    
SUMMARY:Atvērtā lekcija "Latvieši šeit un pasaulē: kultūra un tradīcijas"
DESCRIPTION:Lekcijas tēma ""Latvieši šeit un pasaulē: kultūra un tradīcijas".LU prof. Janīnas Kursītes atklātajā lekcijā\, uz kuru aicināti visi interesenti\, tiks aplūkots jautājums\, kā un no kurienes cēlies latvieša vārds. Balstoties 25 gadu LU lauka pētījumu pieredzē\, tiks sniegts ieskats latviešu kultūrtradīcijās novados un ārpus Latvijas – diasporā\, tostarp – par sēņošanas tradīciju\, par latviešu identitāti un aktivitātēm saistībā ar Mēness cikliem\, piedaloties doktorantei Evitai Veinbergai un maģistrei\, 2025. gada programmas absolventei Anetei Saulītei.Atklātā lekcija maģistra studiju programmā "Latviešu valodas\, literatūras un kultūras studijas".\nLekcija notiks plkst. 18.15–19.45 (Visvalža iela 4a\, 217. telpa).Pieteikties lekcijai.Plašāka informācija par atvērtajām lekcijām.
X-ALT-DESC;FMTTYPE=text/html:<p>Lekcijas tēma ""Latvieši šeit un pasaulē: kultūra un tradīcijas".<br /><br />LU prof. Janīnas Kursītes atklātajā lekcijā\, uz kuru aicināti visi interesenti\, tiks aplūkots jautājums\, kā un no kurienes cēlies latvieša vārds. Balstoties 25 gadu LU lauka pētījumu pieredzē\, tiks sniegts ieskats latviešu kultūrtradīcijās novados un ārpus Latvijas – diasporā\, tostarp – par sēņošanas tradīciju\, par latviešu identitāti un aktivitātēm saistībā ar Mēness cikliem\, piedaloties doktorantei Evitai Veinbergai un maģistrei\, 2025. gada programmas absolventei Anetei Saulītei.<br />Atklātā lekcija maģistra studiju programmā "Latviešu valodas\, literatūras un kultūras studijas".</p>\n<p>Lekcija notiks plkst. 18.15–19.45 (Visvalža iela 4a\, 217. telpa).<br /><br /><a href="https://forms.office.com/pages/responsepage.aspx?id=RE6EJpfSaECjKUUc6GIx8SDoiE7CMVZLihjv6MH77GRUREZHOTZEMkRNUk8xV1ZKMzhBUURZREkyUi4u&amp\;route=shorturl" target="_blank" rel="noreferrer"><strong>Pieteikties lekcijai.</strong></a><br /><br /><a href="https://www.lu.lv/gribustudet/atvertas-lekcijas/" target="_blank"><strong>Plašāka informācija par atvērtajām lekcijām.</strong></a></p>
LOCATION:(Visvalža iela 4a\, 217. telpa
END:VEVENT

END:VCALENDAR