BEGIN:VCALENDAR
VERSION:2.0
PRODID:-//TYPO3/NONSGML Calendarize//EN


BEGIN:VEVENT
UID:calendarize-atverta-lekcija-industriala-politika-argumenti-par-un-pret
DTSTAMP:20260305T160119Z

DTSTART:20260328T095000Z
DTEND:20260328T112000Z
    
SUMMARY:Atvērtā lekcija "Industriālā politika: argumenti par un pret"
DESCRIPTION:Lekcijas tēma "Industriālā politika: argumenti par un pret".Maģistra studiju programma “Ekonomika”.Atvērtā lekcija tiek piedāvāta studiju "Industriālā politika" ietvarā.\nLekcija notiks plkst. 11.50–13.20 (Aspazijas bulvāris 5\, 507.aud.).Pieteikties lekcijai.Plašāka informācija par atvērtajām lekcijām. 
X-ALT-DESC;FMTTYPE=text/html:<p>Lekcijas tēma "Industriālā politika: argumenti par un pret".<br /><br />Maģistra studiju programma “Ekonomika”.<br />Atvērtā lekcija tiek piedāvāta studiju "Industriālā politika" ietvarā.</p>\n<p>Lekcija notiks plkst. 11.50–13.20 (Aspazijas bulvāris 5\, 507.aud.).<br /><br /><a href="https://forms.office.com/pages/responsepage.aspx?id=RE6EJpfSaECjKUUc6GIx8SDoiE7CMVZLihjv6MH77GRUREZHOTZEMkRNUk8xV1ZKMzhBUURZREkyUi4u&amp\;route=shorturl" target="_blank" rel="noreferrer"><strong>Pieteikties lekcijai.</strong></a><br /><br /><a href="https://www.lu.lv/gribustudet/atvertas-lekcijas/" target="_blank"><strong>Plašāka informācija par atvērtajām lekcijām.&nbsp\;</strong></a></p>
LOCATION:Aspazijas bulvāris 5\, 507.aud.
END:VEVENT

END:VCALENDAR