BEGIN:VCALENDAR
VERSION:2.0
PRODID:-//TYPO3/NONSGML Calendarize//EN


BEGIN:VEVENT
UID:calendarize-atverta-cilveks-personiba-informacijas-sabiedriba-socialie-un-kulturas-aspekti
DTSTAMP:20260305T122029Z

DTSTART:20260319T123000Z
DTEND:20260319T140000Z
    
SUMMARY:Atvērtā lekcija "Cilvēks/personība informācijas sabiedrībā: sociālie un kultūras aspekti"
DESCRIPTION:Lekcijas tēma "Cilvēks/personība informācijas sabiedrībā: sociālie un kultūras aspekti".Atvērtā lekcija tiek piedāvāta studiju "Informācijas sabiedrības teorijas" ietvarā.Maģistra studiju programma "Bibliotēkzinātne un informācija".\nLekcija notiks plkst. 14.30–16.00 (Lauvas iela 4\, 106. auditorija).Pieteikties lekcijai.Plašāka informācija par atvērtajām lekcijām.
X-ALT-DESC;FMTTYPE=text/html:<p>Lekcijas tēma "Cilvēks/personība informācijas sabiedrībā: sociālie un kultūras aspekti".<br /><br />Atvērtā lekcija tiek piedāvāta studiju "Informācijas sabiedrības teorijas" ietvarā.<br />Maģistra studiju programma<strong>&nbsp\;</strong>"Bibliotēkzinātne un informācija".</p>\n<p>Lekcija notiks plkst. 14.30–16.00 (Lauvas iela 4\, 106. auditorija).<br /><br /><a href="https://forms.office.com/pages/responsepage.aspx?id=RE6EJpfSaECjKUUc6GIx8SDoiE7CMVZLihjv6MH77GRUREZHOTZEMkRNUk8xV1ZKMzhBUURZREkyUi4u&amp\;route=shorturl" target="_blank" rel="noreferrer"><strong>Pieteikties lekcijai.</strong></a><br /><br /><a href="https://www.lu.lv/gribustudet/atvertas-lekcijas/" target="_blank"><strong>Plašāka informācija par atvērtajām lekcijām.</strong></a></p>
LOCATION:Lauvas iela 4\, 106. auditorija
END:VEVENT

END:VCALENDAR