BEGIN:VCALENDAR
VERSION:2.0
PRODID:-//TYPO3/NONSGML Calendarize//EN


BEGIN:VEVENT
UID:calendarize-apala-galda-diskusija-par-zinatnes-drosibu
DTSTAMP:20251113T150419Z

DTSTART:20251120T150000Z
DTEND:20251120T163000Z
    
SUMMARY:Apaļā galda diskusija par zinātnes drošību
DESCRIPTION:DAAD Zinību apmaiņas un pasaules biroju tīkla nodaļas vadītājs Benedikts Brišs (Benedikt Brisch) runās par drošību pētniecībā un zinātnes diplomātiju. Šis temats mūsdienu akadēmiskās un zinātniskās starpvalstu sadarbības kontekstā ieguvis īpašu aktualitāti. Apaļā galda dalībnieki tiks aicināti piedalīties diskusijā un pieredzes apmaiņā. \nZinātniskā apaļā galda diskusija notiks 20. novembrī plkst. 17.00-18.30 Rīgā\, Latvijas Universitātes Senāta zālē\, Raiņa bulvārī 19. Pasākums norisināsies angļu valodā.\nInteresenti tiek lūgti pieteikties līdz 14.11.2025.\, rakstot uz info.riga@daad.de. Ja nav iespēja ierasties\, pasākumam drīkst pieteikt savu pārstāvi.
X-ALT-DESC;FMTTYPE=text/html:<p>DAAD Zinību apmaiņas un pasaules biroju tīkla nodaļas vadītājs Benedikts Brišs (<i>Benedikt Brisch</i>) runās par drošību pētniecībā un zinātnes diplomātiju. Šis temats mūsdienu akadēmiskās un zinātniskās starpvalstu sadarbības kontekstā ieguvis īpašu aktualitāti. Apaļā galda dalībnieki tiks aicināti piedalīties diskusijā un pieredzes apmaiņā.&nbsp\;</p>\n<p>Zinātniskā apaļā galda diskusija notiks <strong>20. novembrī plkst. 17.00-18.30 Rīgā\, Latvijas Universitātes Senāta zālē\,&nbsp\;Raiņa bulvārī 19.&nbsp\;</strong>Pasākums norisināsies angļu valodā.</p>\n<p>Interesenti tiek lūgti pieteikties līdz 14.11.2025.\, rakstot uz<a href="mailto:info.riga@daad.de"> i<strong>nfo.riga@daad.de</strong></a>.&nbsp\;<br />Ja nav iespēja ierasties\, pasākumam drīkst pieteikt savu pārstāvi.</p>
LOCATION:LU Senāta zāle\, Raiņa bulvāris 19
END:VEVENT

END:VCALENDAR