BEGIN:VCALENDAR
VERSION:2.0
PRODID:-//TYPO3/NONSGML Calendarize//EN


BEGIN:VEVENT
UID:calendarize-akademiskais-forumus-es-toposaja-pasaules-kartiba-galvenais-varonis-pavadonis-vai-npc-ne-speletaja-varonis
DTSTAMP:20260420T120817Z

DTSTART:20260428T140000Z
DTEND:20260427T210000Z
    
SUMMARY:Akadēmiskais forumus "ES topošajā pasaules kārtībā: galvenais varonis\, pavadonis vai NPC (ne-spēlētāja varonis)?"
DESCRIPTION:\nDziļu ģeopolitisku satricinājumu fonā destabilizējoši spēki pārveido starptautisko kārtību\, kas valdījusi kopš Otrā pasaules kara beigām. Uz globālās skatuves\, šķiet\, veidojas jaunas lomas\, kas liek uzdot jautājumu – aizņemoties terminoloģiju no datorspēļu valodas – vai Eiropas Savienība būs patstāvīgs galvenais varonis\, pavadonis ar ierobežotu rīcībspēju vai tikai NPC (jeb ne-spēlētāja varonis vai spēles vadīts tēls). Pasākums dos iespēju aplūkot šo jautājumu no dažādām perspektīvām: apstākļus\, kādos ES varētu kļūt par globālu spēlētāju\, partnerības\, kas varētu virzīt to uz pavadoņa lomu\, kā arī iespējamos ieguvumus un riskus\, kas saistīti ar palikšanu NPC lomā. Īpaša uzmanība tiks pievērsta ES institūcijām un kompetencēm\, globālajai tirdzniecībai\, vērtībām un cilvēktiesībām\, kā arī mākslīgā intelekta pārveidojošajai ietekmei. \nTiks prezentēts arī mācību grāmatas “Eiropas Savienības tiesības. I daļa. Institucionālās tiesības” trešais\, būtiski pārstrādātais izdevums\, ko rediģējuši Kristofs Šēve\, Arnis Buka un Kaspars Gailītis. \nLūdzam reģistrēties pasākumam līdz 27. aprīlim.\nPasākums norisināsies angļu valodā. \nPapildus informācija par pasākumu.
X-ALT-DESC;FMTTYPE=text/html:\n<p>Dziļu ģeopolitisku satricinājumu fonā destabilizējoši spēki pārveido starptautisko kārtību\, kas valdījusi kopš Otrā pasaules kara beigām. Uz globālās skatuves\, šķiet\, veidojas jaunas lomas\, kas liek uzdot jautājumu – aizņemoties terminoloģiju no datorspēļu valodas – vai Eiropas Savienība būs patstāvīgs galvenais varonis\, pavadonis ar ierobežotu rīcībspēju vai tikai NPC (jeb ne-spēlētāja varonis vai spēles vadīts tēls). Pasākums dos iespēju aplūkot šo jautājumu no dažādām perspektīvām: apstākļus\, kādos ES varētu kļūt par globālu spēlētāju\, partnerības\, kas varētu virzīt to uz pavadoņa lomu\, kā arī iespējamos ieguvumus un riskus\, kas saistīti ar palikšanu NPC lomā. Īpaša uzmanība tiks pievērsta ES institūcijām un kompetencēm\, globālajai tirdzniecībai\, vērtībām un cilvēktiesībām\, kā arī mākslīgā intelekta pārveidojošajai ietekmei.&nbsp\;</p>\n<p>Tiks prezentēts arī mācību grāmatas “Eiropas Savienības tiesības. I daļa. Institucionālās tiesības” trešais\, būtiski pārstrādātais izdevums\, ko rediģējuši Kristofs Šēve\, Arnis Buka un Kaspars Gailītis.&nbsp\;</p>\n<p>Lūdzam <a href="https://docs.google.com/forms/d/e/1FAIpQLSeopUwW8xOxWrIOVXhNxPZWonRxjC4_Kc9DRV4CczPi5o02-A/viewform" target="_blank">reģistrēties pasākumam līdz 27. aprīlim.</a></p>\n<p>Pasākums norisināsies angļu valodā.&nbsp\;</p>\n<p><a href="http://www.hochschulkontor.lv/kalendars/zinatniskais-vakars-es-toposaja-pasaules-kartiba-galvenais-varonis-pavadonis-vai-npc-ne-speletaja-varonis-2/" target="_blank">Papildus informācija par pasākumu.</a></p>
LOCATION:LU\, konferenču zālē (153.telpā)\, Raiņa bulvārī 19\, Rīgā
END:VEVENT

END:VCALENDAR