BEGIN:VCALENDAR
VERSION:2.0
PRODID:-//TYPO3/NONSGML Calendarize//EN


BEGIN:VEVENT
UID:calendarize-vartonas-biznesa-skolas-profesora-dzerija-vinda-lekcija
DTSTAMP:20260205T104317Z

DTSTART:20260319T160000Z
DTEND:20260319T180000Z
    
SUMMARY: Vārtonas Biznesa skolas profesora Džerija Vinda lekcija
DESCRIPTION:Lekcija norisināsies LU fonda rīkotā cikla “Akadēmiskie lasījumi” ietvaros. Aicināts ikviens interesents\, bezmaksas biļešu rezervācija.\nUniversitātes visā pasaulē piedzīvo straujas pārmaiņas – mākslīgā intelekta (MI)\, zinātnes un tehnoloģiju attīstība kardināli pārveido izglītības iespējas un prasības. Sabiedrība saskaras ar nopietnām problēmām – patiesības un zinātnes izaicinājumiem\, pieaugošu nevienlīdzību izglītībā un ienākumos\, arvien krasāku ideoloģisko polarizāciju kā arī ģeopolitiskajām svārstībām.  \nŠīs pārmaiņas atklāj vājās vietas mūsdienu izglītības modeļos. Tie kļūst nepiemērotāki\, lai sagatavotu studentus mūsdienu sarežģītajai un mainīgajai pasaulei. Pretošanās pārmaiņām\, arvien sarūkošā uzticēšanās zināšanām un institūcijām var apdraudēt augstskolas kā zināšanu nesējas un pilsoniskās atbildības uzturētājas lomu. \nProfesors Vinds lekcijā izaicinās ierasto izglītības domāšanu un parādīs\, kā MI var palīdzēt mainīt novecojošās paradigmas. “Lai pavērtu jaunus ceļus adaptīvai\, iekļaujošai\, vērtību vadītai izglītībai\, īpaši svarīga ir drosme eksperimentēt un gatavība mainīt domāšanas modeļus. Izglītības veidošanā augstskolām nepieciešams pārliecinoši uzņemties vadību. Pārveidojot izglītības pieeju un saturu\, to var piemērot laikmetam\, kurā netrūks ne izaicinājumu\, ne iespēju\,” saka profesors Džerijs Vinds. \nPar lektoru \nPensilvānijas Universitātes Vārtonas Biznesa skolas profesors Džerijs Vinds ir viens no ievērojamākajiem mārketinga stratēģijas un inovāciju pētniekiem\, turklāt ierindojas starp pasaulē visvairāk citētajiem mārketinga autoriem. Pazīstams ar pētījumiem patērētāju uzvedības\, tirgus segmentācijas\, zīmolvedības un digitālās transformācijas jomās\, kā arī aktīvu iesaisti uzņēmumu un organizāciju konsultēšanā. Uzstājies ar lekcijām vairāk nekā 50 universitātēs visā pasaulē. \nLekciju atbalsta “J. J. Medveckis Foundation” un “Signet banka”.\nPar LU fonda akadēmiskajiem lasījumiem \nAkadēmiskie lasījumi ir LU fonda iniciēts pasaulē ievērojamu personību\, akadēmiķu lekcijas par sabiedrībai un zinātnei būtiskiem jautājumiem. Līdz šīm cikla ietvaros viesojušies – ASV fotogrāfs Deivids Bernets (David Burnett) un Oksfordas Universitātes profesors Čārlzs Spenss (Charles Spence). LU fonda Akadēmisko lasījumu cikls notiek\, pateicoties mecenātu atbalstam.
X-ALT-DESC;FMTTYPE=text/html:<p class="text-justify"><strong>Lekcija norisināsies LU fonda rīkotā cikla “Akadēmiskie lasījumi” ietvaros. Aicināts ikviens interesents\,</strong><a href="https://ej.uz/rezervet_bileti_jerry_wind" target="_blank"><strong> bezmaksas biļešu rezervācija.</strong></a></p>\n<p>Universitātes visā pasaulē piedzīvo&nbsp\;straujas pārmaiņas –&nbsp\;mākslīgā intelekta&nbsp\;(MI)\, zinātnes un tehnoloģiju attīstība kardināli pārveido izglītības iespējas un prasības. Sabiedrība&nbsp\;saskaras&nbsp\;ar&nbsp\;nopietnām&nbsp\;problēmām –&nbsp\;patiesības un zinātnes izaicinājumiem\, pieaugošu nevienlīdzību izglītībā&nbsp\;un ienākumos\, arvien krasāku ideoloģisko polarizāciju&nbsp\;kā arī&nbsp\;ģeopolitiskajām svārstībām.&nbsp\;&nbsp\;</p>\n<p>Šīs pārmaiņas atklāj vājās vietas mūsdienu izglītības modeļos. Tie&nbsp\;kļūst&nbsp\;nepiemērotāki\, lai sagatavotu studentus mūsdienu&nbsp\;sarežģītajai un mainīgajai&nbsp\;pasaulei.&nbsp\;Pretošanās pārmaiņām\, arvien sarūkošā uzticēšanās zināšanām un institūcijām var apdraudēt&nbsp\;augstskolas&nbsp\;kā zināšanu nesējas un pilsoniskās atbildības uzturētājas lomu.&nbsp\;</p>\n<p>Profesors&nbsp\;Vinds&nbsp\;lekcijā&nbsp\;izaicinās&nbsp\;ierasto izglītības domāšanu&nbsp\;un&nbsp\;parādīs\, kā&nbsp\;MI&nbsp\;var palīdzēt&nbsp\;mainīt&nbsp\;novecojošās&nbsp\;paradigmas. “Lai pavērtu jaunus ceļus adaptīvai\, iekļaujošai\, vērtību vadītai izglītībai\, īpaši&nbsp\;svarīga ir&nbsp\;drosme&nbsp\;eksperimentēt&nbsp\;un&nbsp\;gatavība&nbsp\;mainīt&nbsp\;domāšanas&nbsp\;modeļus.&nbsp\;Izglītības veidošanā augstskolām nepieciešams pārliecinoši uzņemties vadību.&nbsp\;Pārveidojot izglītības&nbsp\;pieeju&nbsp\;un saturu\, to var piemērot laikmetam\,&nbsp\;kurā netrūks ne izaicinājumu\, ne iespēju\,” saka profesors&nbsp\;Džerijs&nbsp\;Vinds.&nbsp\;</p>\n<p><strong>Par lektoru</strong>&nbsp\;</p>\n<p>Pensilvānijas&nbsp\;Universitātes&nbsp\;Vārtonas&nbsp\;Biznesa skolas profesors Džerijs&nbsp\;Vinds&nbsp\;ir viens no ievērojamākajiem mārketinga stratēģijas un inovāciju pētniekiem\, turklāt ierindojas starp pasaulē visvairāk citētajiem mārketinga autoriem. Pazīstams ar pētījumiem patērētāju uzvedības\, tirgus segmentācijas\,&nbsp\;zīmolvedības&nbsp\;un digitālās transformācijas jomās\, kā arī aktīvu iesaisti uzņēmumu un organizāciju konsultēšanā. Uzstājies ar lekcijām vairāk nekā 50 universitātēs visā pasaulē.&nbsp\;</p>\n<p>Lekciju atbalsta “J. J. Medveckis&nbsp\;Foundation” un “Signet&nbsp\;banka”.</p>\n<p><strong>Par LU fonda akadēmiskajiem lasījumiem</strong>&nbsp\;</p>\n<p>Akadēmiskie lasījumi ir LU fonda iniciēts pasaulē ievērojamu personību\, akadēmiķu lekcijas par sabiedrībai un zinātnei būtiskiem jautājumiem. Līdz šīm cikla ietvaros viesojušies – ASV fotogrāfs&nbsp\;Deivids&nbsp\;Bernets&nbsp\;(<i>David&nbsp\;Burnett</i>)&nbsp\;un&nbsp\;Oksfordas Universitātes profesors Čārlzs&nbsp\;Spenss&nbsp\;(<i>Charles&nbsp\;Spence</i>).&nbsp\;LU fonda Akadēmisko lasījumu cikls notiek\,&nbsp\;pateicoties mecenātu atbalstam.</p>
LOCATION:
END:VEVENT

END:VCALENDAR