BEGIN:VCALENDAR
VERSION:2.0
PRODID:-//TYPO3/NONSGML Calendarize//EN


BEGIN:VEVENT
UID:calendarize-sviniga-sanaksme-un-koncerts-par-godu-latvijas-republikas-proklamesanas-gadadienai-2
DTSTAMP:20251104T114640Z

DTSTART:20251114T100000Z
DTEND:20251114T113000Z
    
SUMMARY:Svinīgā sanāksme un koncerts par godu Latvijas Republikas proklamēšanas gadadienai 
DESCRIPTION:Svinīgajā notikumā ar uzrunu klātesošos sveiks LU zinātņu prorektors\, asociētais profesors Guntars Kitenbergs\, savukārt LU profesore Sanita Osipova sniegs priekšlasījumu ““Vēl cīņa nav galā un nebeigsies”... jeb akadēmiskā brīvība – ierocis valstiskuma sardzē.”\nPasākumā LU fonda izpilddirektore Zaiga Pūce iezīmēs nozīmīgas Latvijas Universitātes iniciatīvas\, un muzikālu veltījumu valsts svētkiem sniegs pianists Daumants Liepiņš.\nLatvijas Universitātes valsts svētku pasākums ir iespēja vienoties pārdomās par Latvijas valstiskuma vērtībām\, akadēmiskās brīvības nozīmi un Universitātes lomu mūsu valsts attīstībā.\nSaules mūžu Latvijai!
X-ALT-DESC;FMTTYPE=text/html:<p>Svinīgajā notikumā ar uzrunu klātesošos sveiks LU zinātņu prorektors\, asociētais profesors Guntars Kitenbergs\, savukārt LU profesore Sanita Osipova sniegs priekšlasījumu ““Vēl cīņa nav galā un nebeigsies”... jeb akadēmiskā brīvība – ierocis valstiskuma sardzē.”</p>\n<p>Pasākumā LU fonda izpilddirektore Zaiga Pūce iezīmēs nozīmīgas Latvijas Universitātes iniciatīvas\, un muzikālu veltījumu valsts svētkiem sniegs pianists Daumants Liepiņš.</p>\n<p>Latvijas Universitātes valsts svētku pasākums ir iespēja vienoties pārdomās par Latvijas valstiskuma vērtībām\, akadēmiskās brīvības nozīmi un Universitātes lomu mūsu valsts attīstībā.</p>\n<p>Saules mūžu Latvijai!</p>
LOCATION:LU Mazā aula
END:VEVENT

END:VCALENDAR