BEGIN:VCALENDAR
VERSION:2.0
PRODID:-//TYPO3/NONSGML Calendarize//EN


BEGIN:VEVENT
UID:calendarize-sviniga-sadarbibas-liguma-par-petniecibas-un-inovaciju-stiprinasanu-parakstisana
DTSTAMP:20251110T154537Z

DTSTART:20251112T090000Z
DTEND:20251112T100000Z
    
SUMMARY:Svinīga sadarbības līgumu par pētniecības un inovāciju stiprināšanu parakstīšana
DESCRIPTION:Trešdien\, 12. novembrī\, pulksten 11.00\, Aizsardzības ministrijā notiks svinīga sadarbības līgumu parakstīšana starp Aizsardzības ministriju un četrām zinātnes universitātēm – Latvijas Universitāti\, Latvijas Biozinātņu un tehnoloģiju universitāti\, Rīgas Tehnisko universitāti un Rīgas Stradiņa Universitāti.\nŠo līgumu parakstīšana iezīmēs būtisku soli ceļā uz ciešāku sadarbību starp valsts aizsardzības nozari un Latvijas akadēmisko vidi\, stiprinot kopīgu apņemšanos attīstīt zinātni\, pētniecību un inovācijas valsts drošības labā.\nPasākumā piedalīsies aizsardzības ministrs Andris Sprūds\, Latvijas Universitātes rektors Gundars Bērziņš\, Latvijas Biozinātņu un tehnoloģiju universitātes rektore Irina Pilvere\, Rīgas Tehniskās universitātes rektors Tālis Juhna un Rīgas Stradiņa universitātes rektors Aigars Pētersons.
X-ALT-DESC;FMTTYPE=text/html:<p class="text-justify">Trešdien\, 12. novembrī\, pulksten 11.00\, Aizsardzības ministrijā notiks svinīga sadarbības līgumu parakstīšana starp Aizsardzības ministriju un četrām zinātnes universitātēm – Latvijas Universitāti\, Latvijas Biozinātņu un tehnoloģiju universitāti\, Rīgas Tehnisko universitāti un Rīgas Stradiņa Universitāti.</p>\n<p class="text-justify">Šo līgumu parakstīšana iezīmēs būtisku soli ceļā uz ciešāku sadarbību starp valsts aizsardzības nozari un Latvijas akadēmisko vidi\, stiprinot kopīgu apņemšanos attīstīt zinātni\, pētniecību un inovācijas valsts drošības labā.</p>\n<p class="text-justify">Pasākumā piedalīsies aizsardzības ministrs Andris Sprūds\, Latvijas Universitātes rektors Gundars Bērziņš\, Latvijas Biozinātņu un tehnoloģiju universitātes rektore Irina Pilvere\, Rīgas Tehniskās universitātes rektors Tālis Juhna un Rīgas Stradiņa universitātes rektors Aigars Pētersons.</p>
LOCATION:Aizsardzības ministrija
END:VEVENT

END:VCALENDAR