BEGIN:VCALENDAR
VERSION:2.0
PRODID:-//TYPO3/NONSGML Calendarize//EN


BEGIN:VEVENT
UID:calendarize-rektora-amata-kandidatu-publiskas-debates-1
DTSTAMP:20240207T104351Z

DTSTART:20240226T140000Z
DTEND:20240226T160000Z
    
SUMMARY:Rektora amata kandidātu publiskās debates
DESCRIPTION: \nŠodien\, 26. februārī\, plkst. 16.00 Latvijas Universitātes (LU) Lielajā aulā notiks LU rektora amata kandidātu noslēdzošās publiskās debates. Jaunā rektora vēlēšanas notiks 1. martā.\nUz amatu pretendē divi kandidāti – LU Biznesa\, vadības un ekonomikas fakultātes profesore un LU rektora padomniece Signe Bāliņa un LU Biznesa\, vadības un ekonomikas fakultātes dekāns profesors Gundars Bērziņš. 
X-ALT-DESC;FMTTYPE=text/html:<h3>&nbsp\;</h3>\n<h5><strong>Šodien\, 26. februārī\, plkst. 16.00 Latvijas Universitātes (LU) Lielajā aulā notiks LU rektora amata kandidātu noslēdzošās publiskās debates. Jaunā rektora vēlēšanas notiks 1.</strong>&nbsp\;<strong>martā.</strong></h5>\n<p>Uz amatu pretendē divi kandidāti – LU Biznesa\, vadības un ekonomikas fakultātes profesore un LU rektora padomniece&nbsp\;<strong>Signe Bāliņa</strong>&nbsp\;un LU Biznesa\, vadības un ekonomikas fakultātes dekāns profesors&nbsp\;<strong>Gundars Bērziņš</strong>.&nbsp\;</p>
LOCATION:LU Lielā aula\, Rīga\, Raiņa bulvāris 19 (lu.lv)
END:VEVENT

END:VCALENDAR