BEGIN:VCALENDAR
VERSION:2.0
PRODID:-//TYPO3/NONSGML Calendarize//EN


BEGIN:VEVENT
UID:calendarize-promocijas-darbu-aizstav-elina-zivtina
DTSTAMP:20251108T082328Z

DTSTART:20251124T120000Z
DTEND:20251124T140000Z
    
SUMMARY:Promocijas darbu aizstāv Elīna Zivtiņa
DESCRIPTION:Promocijas darba aizstāvēšana notiks 2025. gada 24. novembrī plkst. 14.00 LU Tiesību zinātnes promocijas padomes atklātajā sēdē Juridiskās fakultātes Tiesas zālē (Raiņa bulv.19\, 260. telpā\, 2. stāvā).\nAr darbu var iepazīties Latvijas Universitātes daudznozaru bibliotēkā (Raiņa bulvārī 19\, 203. telpā\, 2. stāvā).
X-ALT-DESC;FMTTYPE=text/html:<p>Promocijas darba aizstāvēšana notiks <strong>2025. gada 24. novembrī plkst. 14.00 LU Tiesību zinātnes promocijas padomes atklātajā sēdē Juridiskās fakultātes Tiesas zālē (Raiņa bulv.19\, 260. telpā\, 2. stāvā).</strong></p>\n<p>Ar darbu var iepazīties Latvijas Universitātes daudznozaru bibliotēkā (Raiņa bulvārī 19\, 203. telpā\, 2. stāvā).</p>
LOCATION:Raiņa bulvāris 19
END:VEVENT

END:VCALENDAR