BEGIN:VCALENDAR
VERSION:2.0
PRODID:-//TYPO3/NONSGML Calendarize//EN


BEGIN:VEVENT
UID:calendarize-promocijas-darbu-aizstav-aleksandrs-kuznecovs
DTSTAMP:20260213T144205Z

DTSTART:20260305T100000Z
DTEND:20260305T120000Z
    
SUMMARY:Promocijas darbu aizstāv Aleksandrs Kuzņecovs
DESCRIPTION:Promocijas darba aizstāvēšana notiks 2026. gada 5.martā plkst. 12.00 LU Tiesību zinātnes promocijas padomes atklātajā sēdē Juridiskās fakultātes Tiesas zālē (Raiņa bulv.19\, 260. telpā\, 2. stāvā).\nAr darbu var iepazīties Latvijas Universitātes daudznozaru bibliotēkā (Raiņa bulvārī 19\, 203. telpā\, 2. stāvā). 
X-ALT-DESC;FMTTYPE=text/html:<p class="text-justify">Promocijas darba aizstāvēšana notiks 2026. gada 5.martā plkst. 12.00 LU Tiesību zinātnes promocijas padomes atklātajā sēdē&nbsp\;Juridiskās fakultātes Tiesas zālē&nbsp\;(Raiņa bulv.19\, 260.&nbsp\;telpā\, 2. stāvā).</p>\n<p class="text-justify">Ar darbu var iepazīties Latvijas Universitātes daudznozaru bibliotēkā (Raiņa bulvārī 19\,&nbsp\;203.&nbsp\;telpā\, 2. stāvā).&nbsp\;</p>
LOCATION:JF Tiesas zāle\, Raiņa bulvāris 19
END:VEVENT

END:VCALENDAR