BEGIN:VCALENDAR
VERSION:2.0
PRODID:-//TYPO3/NONSGML Calendarize//EN


BEGIN:VEVENT
UID:calendarize-prezidiju-konventa-viru-koris-svin-100
DTSTAMP:20251107T160315Z

DTSTART:20251206T150000Z
DTEND:20251206T170000Z
    
SUMMARY:Prezidiju Konventa Vīru koris svin 100
DESCRIPTION:“Sveicinam\, latvju ļaudis\, latvju druvas!” – šie Jāzepa Vītola vārdi skan kā simbols Prezidiju Konventa Vīru kora (P!K!V!K!) būtībai\, kas jau simts gadu uztur dzīvu akadēmisko un buršu dziedāšanas tradīciju. Šoruden koris svin savu 100 gadu jubileju ar īpašu koncertu\, apvienojot klasiku un jaundarbus\, atklājot P!K!V!K! jaunā gaismā.\nKoncertā “Prezidiju Konventa Vīru koris svin 100!” izskanēs vīru koru mūzikas klasika\, buršu dziesmu apdares un mūsdienu latviešu komponistu darbi\, atklājot kora muzikālo spēku un tradīciju dziļumu. Uz skatuves kopā ar P!K!V!K! muzicēs Studenšu Prezidiju konventa koris diriģentes fil! Daces Bites vadībā\, Latvijas Universitātes Pūtēju orķestris (mākslinieciskais vadītājs Jānis Puriņš)\, kā arī solistes Ilona Bagele un Ieva Kerēvica. Koncerta otrajā daļā klausītājus sagaidīs īpaša dāvana – ārzemju populārās mūzikas izlase P!K!V!K! izpildījumā\, kas vakaram piešķirs svinīgu vieglumu un dzīvesprieku.\nPrezidiju Konventa Vīru koris dibināts 1925. gadā\, un tā pirmais diriģents bija Teodors Reiters. Gadu gaitā kori vadījuši izcili diriģenti\, tostarp Teodors Kalniņš\, Edgars Račevskis\, Arnis Pauris un Edgars Linde\, bet kopš 2016. gada tā mākslinieciskā vadītāja ir Lorija Cinkusa. Šodien korī dzied ap 30 vīru no 11 studentu korporācijām\, kas kopā turpina gadsimtu senu tradīciju un aktīvi piedalās koncertos\, festivālos un Dziesmu svētkos.\nKā simbols kopības spēkam un akadēmiskajai brālībai\, P!K!V!K! gadsimta laikā ir vienojis paaudzes dziesmā un draudzībā. Aicinām visus mūzikas un tradīciju cienītājus pievienoties šiem īpašajiem svētkiem un kopā svinēt Latvijas koru kultūras lepnuma – Prezidiju Konventa Vīru kora – simtgadi.\nGaidīsim visus uz “Prezidiju Konventa Vīru koris svin 100!” koncertu 6. decembrī plkst. 17.00 Latvijas Universitātes Lielajā aulā\, Raiņa bulvārī 19\, un uz to ieeja - bezmaksas. Sekojiet līdzi jaunākajai informācijai par koncertu Facebook.\n\nUzziniet vairāk par P!K!V!K! Kultūras centra tīmekļvietnē. 
X-ALT-DESC;FMTTYPE=text/html:<p>“Sveicinam\, latvju ļaudis\, latvju druvas!” – šie Jāzepa Vītola vārdi skan kā simbols Prezidiju Konventa Vīru kora (P!K!V!K!) būtībai\, kas jau simts gadu uztur dzīvu akadēmisko un buršu dziedāšanas tradīciju. Šoruden koris svin savu 100 gadu jubileju ar īpašu koncertu\, apvienojot klasiku un jaundarbus\, atklājot P!K!V!K! jaunā gaismā.</p>\n<p>Koncertā “Prezidiju Konventa Vīru koris svin 100!” izskanēs vīru koru mūzikas klasika\, buršu dziesmu apdares un mūsdienu latviešu komponistu darbi\, atklājot kora muzikālo spēku un tradīciju dziļumu. Uz skatuves kopā ar P!K!V!K! muzicēs Studenšu Prezidiju konventa koris diriģentes <i>fil! Daces Bites</i> vadībā\, Latvijas Universitātes Pūtēju orķestris (<i>mākslinieciskais vadītājs Jānis Puriņš</i>)\, kā arī solistes Ilona Bagele un Ieva Kerēvica. Koncerta otrajā daļā klausītājus sagaidīs īpaša dāvana – ārzemju populārās mūzikas izlase P!K!V!K! izpildījumā\, kas vakaram piešķirs svinīgu vieglumu un dzīvesprieku.</p>\n<p>Prezidiju Konventa Vīru koris dibināts 1925. gadā\, un tā pirmais diriģents bija Teodors Reiters. Gadu gaitā kori vadījuši izcili diriģenti\, tostarp Teodors Kalniņš\, Edgars Račevskis\, Arnis Pauris un Edgars Linde\, bet kopš 2016. gada tā mākslinieciskā vadītāja ir Lorija Cinkusa. Šodien korī dzied ap 30 vīru no 11 studentu korporācijām\, kas kopā turpina gadsimtu senu tradīciju un aktīvi piedalās koncertos\, festivālos un Dziesmu svētkos.</p>\n<p>Kā simbols kopības spēkam un akadēmiskajai brālībai\, P!K!V!K! gadsimta laikā ir vienojis paaudzes dziesmā un draudzībā. Aicinām visus mūzikas un tradīciju cienītājus pievienoties šiem īpašajiem svētkiem un kopā svinēt Latvijas koru kultūras lepnuma – Prezidiju Konventa Vīru kora – simtgadi.</p>\n<p>Gaidīsim visus uz “Prezidiju Konventa Vīru koris svin 100!” koncertu 6. decembrī plkst. 17.00 Latvijas Universitātes Lielajā aulā\, Raiņa bulvārī 19\, un uz to ieeja - bezmaksas. Sekojiet līdzi jaunākajai informācijai par koncertu <a href="https://fb.me/e/bRxx8J00u" target="_blank" rel="noreferrer"><strong>Facebook</strong></a><strong>.</strong></p>\n\n<p>Uzziniet vairāk par P!K!V!K!<strong> </strong><a href="https://www.kultura.lu.lv/kolektivi/viru-kori/prezidiju-konventa-viru-koris/" target="_blank"><strong>Kultūras centra tīmekļvietnē.&nbsp\;</strong></a></p>
LOCATION:
END:VEVENT

END:VCALENDAR