BEGIN:VCALENDAR
VERSION:2.0
PRODID:-//TYPO3/NONSGML Calendarize//EN


BEGIN:VEVENT
UID:calendarize-pasaules-filozofijas-diena-1-1
DTSTAMP:20251119T091527Z

DTSTART;VALUE=DATE:20251120
DTEND;VALUE=DATE:20251121
    
SUMMARY: Pasaules filozofijas diena
DESCRIPTION:20. novembrī dienas garumā: X platformas filozofiskā akcija #orākuls2025\nLU Humanitāro zinātņu fakultātes Filozofijas un ētikas nodaļas pasniedzēji un studenti rīko akciju “Orākul\, Orākul\, saki man tā …”\, aicinot ikvienu uzdot jautājumus par to\, kas neliek mierā – par aktualitātēm\, filozofiju\, pasaules iekārtojumu vai ikdienas sarežģījumiem. \nLīdz 19. novembra plkst. 23.59 aicinām ikvienu interesentu iesniegt savus jautājumus:\n izmantojot tēmturi #orākuls2025 platformā X\;sūtot savu jautājumu uz e-pastu – orakuls.filozofija@gmail.com ar tematu “Orākuls”. \nAtbildes uz iesniegtajiem jautājumiem tiks publicētas platformā X profilā @Orakuls1. Tāpat atbildēm varēs sekot līdzi LU HZF Instagram kontā (@hzf_lu).\n20. novembrī plkst. 19.00: žurnāla “Tvērums” rīkotais filozofijas dienas lasījumu vakars\nŽurnāls Tvērums organizē lasījumu vakaru “Filosofs ienāk krogā…”\, kultūrbārā Labietis.\nIecerēts neformālā gaisotnē dalīties ar sev nozīmīgiem\, sarežģītiem\, iedvesmojošiem un arī citas sajūtas raisošiem filozofu tekstiem – seniem\, mūsdienīgiem\, pašmāju un citzemju\, šādi aktualizējot un svinot domas skaidrību (vai tikpat labi arī nereto neskaidrību un sarežģītību)\, gudrības tikumu un nepieciešamību lasīt un jēgpilni sarunāties.\n23. novembrī plkst. 19.00: LU HZF filozofijas studentu organizētais filmu vakars\nFilozofijas studenti aicina uz filmu vakaru kultūrbārā “Aleponija”. Vakaru atklās filozofijas studenti\, rādot sagatavoto video “Saruna kustībā. Filozofija šodien”\, kurā tiek meklētas atbildes uz jautājumu\, ko nozīmē nodarboties ar filozofiju mūsdienās.\nPēc video LU HZF pasniedzēji sniegs īsu ievadu par Ludvigu Vitgenšteinu\, un pēc tam sekos eksperimentālās dokumentālās filmas Wittgenstein Abecedarium (2022) demonstrācija. Pateicamies Džefrijam Hālam (Jeffrey Hall) par iespēju demonstrēt filmu!\nFilma angliski\, bez tulkojuma.Dalība – bez maksas.
X-ALT-DESC;FMTTYPE=text/html:<h3><strong>20. novembrī dienas garumā: </strong><i><strong>X </strong></i><strong>platformas filozofiskā akcija #orākuls2025</strong></h3>\n<p>LU Humanitāro zinātņu fakultātes Filozofijas un ētikas nodaļas pasniedzēji un studenti rīko akciju “Orākul\, Orākul\, saki man tā …”\, aicinot ikvienu uzdot jautājumus par to\, kas neliek mierā – par aktualitātēm\, filozofiju\, pasaules iekārtojumu vai ikdienas sarežģījumiem.&nbsp\;</p>\n<p>Līdz 19. novembra plkst. 23.59 aicinām ikvienu interesentu iesniegt savus jautājumus:</p>\n<ul><li>&nbsp\;izmantojot tēmturi <a class="x1i10hfl xjbqb8w x1ejq31n x18oe1m7 x1sy0etr xstzfhl x972fbf x10w94by x1qhh985 x14e42zd x9f619 x1ypdohk xt0psk2 x3ct3a4 xdj266r x14z9mp xat24cr x1lziwak xexx8yu xyri2b x18d9i69 x1c1uobl x16tdsg8 x1hl2dhg xggy1nq x1a2a7pz xkrqix3 x1sur9pj x1fey0fg x1s688f" href="https://www.facebook.com/hashtag/or%C4%81kuls2025?__eep__=6&amp\;__cft__[0]=AZWw64IIjVAgirtbP77FRbIrAYD9RullDX69ojXO1MZnyiqEsGVeba4kcjdyYn9vJpbu2gRGXfaEI9eTIkJamBkiVRpH5Ntt5hXfb1pr7JYI5b5ocT4n6lpjmDIV20JVqYj37LdGYO4qpt0-4vwCIJimJAIz4eQYEhzbUBNkPCVbDlXk2QcadgBhlMPqTc45ssk&amp\;__tn__=*NK-R" target="_blank" rel="noreferrer"><span><strong>#orākuls2025</strong></span></a> platformā <i>X</i>\;</li><li>sūtot savu jautājumu uz e-pastu – <a href="mailto:orakuls.filozofija@gmail.com">orakuls.filozofija@gmail.com</a> ar tematu “Orākuls”.&nbsp\;</li></ul>\n<p>Atbildes uz iesniegtajiem jautājumiem tiks publicētas platformā <i>X</i> profilā @Orakuls1. Tāpat atbildēm varēs sekot līdzi LU HZF Instagram kontā (@hzf_lu).</p>\n<h3><strong>20. novembrī plkst. 19.00: žurnāla “Tvērums” rīkotais filozofijas dienas lasījumu vakars</strong></h3>\n<p>Žurnāls <a href="https://tverums.lv/" target="_blank" rel="noreferrer"><i><strong>Tvērums</strong></i></a><i><strong> </strong></i>organizē lasījumu vakaru “Filosofs ienāk krogā…”\, kultūrbārā <i>Labietis.</i></p>\n<p>Iecerēts neformālā gaisotnē dalīties ar sev nozīmīgiem\, sarežģītiem\, iedvesmojošiem un arī citas sajūtas raisošiem filozofu tekstiem – seniem\, mūsdienīgiem\, pašmāju un citzemju\, šādi aktualizējot un svinot domas skaidrību (vai tikpat labi arī nereto neskaidrību un sarežģītību)\, gudrības tikumu un nepieciešamību lasīt un jēgpilni sarunāties.</p>\n<h3><strong>23. novembrī plkst. 19.00: LU HZF filozofijas studentu organizētais filmu vakars</strong></h3>\n<p>Filozofijas studenti aicina uz filmu vakaru kultūrbārā “Aleponija”. Vakaru atklās filozofijas studenti\, rādot sagatavoto video “Saruna kustībā. Filozofija šodien”\, kurā tiek meklētas atbildes uz jautājumu\, ko nozīmē nodarboties ar filozofiju mūsdienās.</p>\n<p>Pēc video LU HZF pasniedzēji sniegs īsu ievadu par Ludvigu Vitgenšteinu\, un pēc tam sekos eksperimentālās dokumentālās filmas <a href="https://www.avantgaragestudio.com/wittgenstein-abc" target="_blank" rel="noreferrer"><i><strong>Wittgenstein Abecedarium</strong></i></a> (2022) demonstrācija. Pateicamies Džefrijam Hālam (<i>Jeffrey Hall</i>) par iespēju demonstrēt filmu!</p>\n<p>Filma angliski\, bez tulkojuma.<br />Dalība – bez maksas.</p>
LOCATION:
END:VEVENT

END:VCALENDAR