BEGIN:VCALENDAR
VERSION:2.0
PRODID:-//TYPO3/NONSGML Calendarize//EN


BEGIN:VEVENT
UID:calendarize-lu-darbinieku-pavasara-boulinga-vakars-2026-1
DTSTAMP:20260225T090539Z

DTSTART:20260318T160000Z
DTEND:20260318T200000Z
    
SUMMARY:LU Darbinieku pavasara boulinga vakars 2026
DESCRIPTION:Aicināti visi LU un ar to saistīto organizāciju darbinieki – institūtu\, fakultāšu\, citu iestāžu un struktūrvienību pārstāvji\, kā arī biedrības un fondi. Katra organizācija var pieteikt vairākas komandas\, kurās jābūt no četriem līdz sešiem spēlētājiem.\nLU darbinieku boulinga vakars notiks 18. martā no plkst. 18.00 līdz 22.00\, Pepsi centrā\, Uzvaras bulvārī 10.\nPasākuma dienā no plkst. 17.30 sāksies dalībnieku reģistrācija. Vakara sākumā no plkst. 18.00 līdz 20.50 notiks atlases kārtas\, kurās visas komandas sacentīsies par vietu finālā.\nLai piedalītos pasākumā\, komandām jāreģistrējas\, aizpildot elektronisko pieteikuma anketu līdz 2. marta plkst.14.59. Anketā jānorāda komandas nosaukums\, laiks\, cikos komanda vēlētos sākt pusfinālu\, komandas kapteiņa vai deleģētās personas kontaktinformācija un prognozējamais komandas dalībnieku skaits. Aicinām pieteikties savlaicīgi\, jo uz šo pasākumu visas vietas tiek aizņemtas ļoti ātri.\nPlašāka informācija par pasākuma norisi pieejama LU Sporta centra tīmekļvietnē. 
X-ALT-DESC;FMTTYPE=text/html:<p class="text-justify">Aicināti visi LU un ar to saistīto organizāciju darbinieki – institūtu\, fakultāšu\, citu iestāžu un struktūrvienību pārstāvji\, kā arī biedrības un fondi. Katra organizācija var pieteikt vairākas komandas\, kurās jābūt no četriem līdz sešiem spēlētājiem.</p>\n<p class="text-justify">LU darbinieku boulinga vakars notiks 18. martā no plkst. 18.00 līdz 22.00\, Pepsi centrā\, Uzvaras bulvārī 10.</p>\n<p class="text-justify">Pasākuma dienā no plkst. 17.30 sāksies dalībnieku reģistrācija. Vakara sākumā no plkst. 18.00 līdz 20.50 notiks atlases kārtas\, kurās visas komandas sacentīsies par vietu finālā.</p>\n<p class="text-justify">Lai piedalītos pasākumā\, komandām jāreģistrējas\, aizpildot <a href="https://docs.google.com/forms/d/e/1FAIpQLSdQTtKjtnIW2KhRruIy8_f7NxJacQ0ckRjzC6-o991eQEUmqQ/viewform" target="_blank" rel="noreferrer"><strong>elektronisko pieteikuma anketu</strong></a> līdz 2. marta plkst.14.59. Anketā jānorāda komandas nosaukums\, laiks\, cikos komanda vēlētos sākt pusfinālu\, komandas kapteiņa vai deleģētās personas kontaktinformācija un prognozējamais komandas dalībnieku skaits. Aicinām pieteikties savlaicīgi\, jo uz šo pasākumu visas vietas tiek aizņemtas ļoti ātri.</p>\n<p class="text-justify">Plašāka informācija par pasākuma norisi pieejama <a href="https://www.lu.lv/sports/par-mums/zinas/zina/t/107816/" target="_blank"><strong>LU Sporta centra tīmekļvietnē.&nbsp\;</strong></a></p>
LOCATION:Pepsi centrs\, Uzvaras bulvāris 10
END:VEVENT

END:VCALENDAR