BEGIN:VCALENDAR
VERSION:2.0
PRODID:-//TYPO3/NONSGML Calendarize//EN


BEGIN:VEVENT
UID:calendarize-lietuviesu-prozas-lasijumi
DTSTAMP:20251124T120234Z

DTSTART:20251125T140000Z
DTEND:20251125T160000Z
    
SUMMARY:Lietuviešu prozas lasījumi
DESCRIPTION:Šis pasākums jau ir kļuvis par skaistu tradīciju\, kas top Lietuviešu rakstnieku savienības un LU Humanitāro zinātņu fakultātes (HZF) Latvistikas un baltistikas nodaļas Lituānistikas centra sadarbībā.\nPasākumā piedalīsies divi rakstnieki no Lietuvas – Daina Opolskaite un Vids Morkūns (latviešu lasītājiem pazīstams arī ar novērtēto stāstu krājumu “Ceļinieku stacijas” (2023\, tulk. Dace Meiere)).\nLU HZF bakalaura studiju programmas “Latvistika” 2. un 3. kursa studenti autoru klātbūtnē nolasīs darbnīcas laikā iztulkotos fragmentus no D. Opolskaites stāsta “Agonija” un V. Morkūna stāsta “Šodien”.\nDarbojoties darbnīcā\, studenti ne tikai nostiprina lietuviešu valodas zināšanas\, bet arī iegūst vērtīgas profesionālās iemaņas daiļliteratūras tulkošanā un iespēju tieši komunicēt ar rakstniekiem\, veidojot nozīmīgus kontaktus.\nLaikā no 2017. līdz 2024. gadam darbnīcās piedalījušies 87 studenti\, sadarbojoties ar ievērojamiem lietuviešu prozas autoriem – Rimantu Kmitu\, Biruti Jonuškaiti\, Danuti Kalinauskaiti\, Ievu Toleikīti\, Rasu Aškinīti\, Laurīnu Katku\, Nijoli Raižīti\, kā arī dzejniekiem Vladu Brazjūnu\, Vītu Dekšni\, Ali Balbierju\, Gretu Ambrazaiti\, Dominīku Norkūnu un Eriku Drungīti. Atsevišķos pasākumos dalību sniegušas arī profesionālās tulkotājas – Dace Meiere\, Indra Brūvere un Daiga Lapāne.\nPasākumu organizē LU HZF Latvistikas un baltistikas nodaļas Lituānistikas centrs asoc. prof. Edmunda Trumpa vadībā.\nSirsnīgs paldies Latvijas Universitātes bibliotēkai par atbalstu!\nLaipni aicināti visi interesenti!
X-ALT-DESC;FMTTYPE=text/html:<p>Šis pasākums jau ir kļuvis par skaistu tradīciju\, kas top Lietuviešu rakstnieku savienības un LU Humanitāro zinātņu fakultātes (HZF) Latvistikas un baltistikas nodaļas Lituānistikas centra sadarbībā.</p>\n<p>Pasākumā piedalīsies divi rakstnieki no Lietuvas – Daina Opolskaite un Vids Morkūns (latviešu lasītājiem pazīstams arī ar novērtēto stāstu krājumu “Ceļinieku stacijas” (2023\, tulk. Dace Meiere)).</p>\n<p>LU HZF bakalaura studiju programmas “Latvistika” 2. un 3. kursa studenti autoru klātbūtnē nolasīs darbnīcas laikā iztulkotos fragmentus no D. Opolskaites stāsta “Agonija” un V. Morkūna stāsta “Šodien”.</p>\n<p>Darbojoties darbnīcā\, studenti ne tikai nostiprina lietuviešu valodas zināšanas\, bet arī iegūst vērtīgas profesionālās iemaņas daiļliteratūras tulkošanā un iespēju tieši komunicēt ar rakstniekiem\, veidojot nozīmīgus kontaktus.</p>\n<p>Laikā no 2017. līdz 2024. gadam darbnīcās piedalījušies 87 studenti\, sadarbojoties ar ievērojamiem lietuviešu prozas autoriem – Rimantu Kmitu\, Biruti Jonuškaiti\, Danuti Kalinauskaiti\, Ievu Toleikīti\, Rasu Aškinīti\, Laurīnu Katku\, Nijoli Raižīti\, kā arī dzejniekiem Vladu Brazjūnu\, Vītu Dekšni\, Ali Balbierju\, Gretu Ambrazaiti\, Dominīku Norkūnu un Eriku Drungīti. Atsevišķos pasākumos dalību sniegušas arī profesionālās tulkotājas – Dace Meiere\, Indra Brūvere un Daiga Lapāne.</p>\n<p>Pasākumu organizē LU HZF Latvistikas un baltistikas nodaļas Lituānistikas centrs asoc. prof. Edmunda Trumpa vadībā.</p>\n<p>Sirsnīgs paldies Latvijas Universitātes bibliotēkai par atbalstu!</p>\n<p><strong>Laipni aicināti visi interesenti!</strong></p>
LOCATION:Visvalža iela 4a
END:VEVENT

END:VCALENDAR