BEGIN:VCALENDAR
VERSION:2.0
PRODID:-//TYPO3/NONSGML Calendarize//EN


BEGIN:VEVENT
UID:calendarize-konkursa-bizness24h-1-karta
DTSTAMP:20260109T140503Z

DTSTART:20260123T074000Z
DTEND:20260123T170000Z
    
SUMMARY:Konkursa “Bizness24h” 1. kārta
DESCRIPTION:Piecu mēnešu laikā 3 cilvēku komandās dalībnieki iegūst reālu uzņēmējdarbības pieredzi\, attīsta pārdošanas un mārketinga prasmes un realizē savas idejas pieredzējušu mentoru atbalstā.\nKonkurss norisinās trīs kārtās no 23. janvāra līdz 7. maijam.Pieteikšanās līdz 19. janvārim.\nVairāk informācijas un pieteikšanās: bizness24h.lv
X-ALT-DESC;FMTTYPE=text/html:<p>Piecu mēnešu laikā 3 cilvēku komandās dalībnieki iegūst reālu uzņēmējdarbības pieredzi\, attīsta pārdošanas un mārketinga prasmes un realizē savas idejas pieredzējušu mentoru atbalstā.</p>\n<p>Konkurss norisinās trīs kārtās<strong> no 23. janvāra līdz 7. maijam.</strong><br />Pieteikšanās <strong>līdz 19. janvārim.</strong></p>\n<p>Vairāk informācijas un pieteikšanās: <a href="https://bizness24h.lv/" target="_blank"><strong>bizness24h.lv</strong></a></p>
LOCATION:Kr.Valdemāra ielā 161
END:VEVENT

END:VCALENDAR