BEGIN:VCALENDAR
VERSION:2.0
PRODID:-//TYPO3/NONSGML Calendarize//EN


BEGIN:VEVENT
UID:calendarize-janinas-kursites-gramatas-latvijas-kulturvienibas-jeb-mazie-novadi-atversanas-svetki
DTSTAMP:20251113T135758Z

DTSTART:20251118T130000Z
DTEND:20251118T150000Z
    
SUMMARY:Janīnas Kursītes grāmatas “Latvijas kultūrvienības jeb mazie novadi” atvēršanas svētki
DESCRIPTION:Janīnas Kursītes kultūrvēsturiskā apcere "Latvijas kultūrvienības jeb mazie novadi" (izdevniecība “Rundas”\, 2025) pievēršas Latvijas vēsturisko zemju mazo novadu ģenēzei\, etnogrāfijai un kultūrvēsturei. "Maznovads nav pienesuma ziņā kas nevērtīgāks par lielnovadu\, bet tikai iezīmē pakārtojumu lielākai kultūrvienībai\," skaidro Janīna Kursīte. Grāmatā aplūkoti suiti un Suitija\, Zemgales krieviņi\, Ludzas igauņi\, Abrene\, Augšzeme\, Kuršu ķoniņi\, Kurzemes lībieši\, Leišmale\, Lejaskurzeme\, Malēnija\, Piebalga\, Vidzemes lībieši un vendi. Tā dod iespēju ar mazo novadu fenomenu iepazīties plašam lasītāju lokam\, vairojot sabiedrības zināšanas par vēsturisko zemju identitātēm un bagātīgo kultūrvestures mantojumu.\nGrāmatas atvēršanas svētki notiks muzeja 4. stāvā Konferenču telpā. Pasākuma laikā grāmatu varēs iegādāties\, tā būs pieejama izdevniecības e-veikalā www.rundaspublishing.com un grāmatnīcās. Grāmata izdota ar Latvijas Nacionālā kultūras centra un Valsts kultūrkapitāla fonda atbalstu.Plašāka informācija Latvijas Nacionālā kultūras centra tīmekļvietnē.
X-ALT-DESC;FMTTYPE=text/html:<p>Janīnas Kursītes kultūrvēsturiskā apcere "Latvijas kultūrvienības jeb mazie novadi" (izdevniecība “Rundas”\, 2025) pievēršas Latvijas vēsturisko zemju mazo novadu ģenēzei\, etnogrāfijai un kultūrvēsturei. "Maznovads nav pienesuma ziņā kas nevērtīgāks par lielnovadu\, bet tikai iezīmē pakārtojumu lielākai kultūrvienībai\," skaidro Janīna Kursīte. Grāmatā aplūkoti suiti un Suitija\, Zemgales krieviņi\, Ludzas igauņi\, Abrene\, Augšzeme\, Kuršu ķoniņi\, Kurzemes lībieši\, Leišmale\, Lejaskurzeme\, Malēnija\, Piebalga\, Vidzemes lībieši un vendi. Tā dod iespēju ar mazo novadu fenomenu iepazīties plašam lasītāju lokam\, vairojot sabiedrības zināšanas par vēsturisko zemju identitātēm un bagātīgo kultūrvestures mantojumu.</p>\n<p>Grāmatas atvēršanas svētki notiks muzeja 4. stāvā Konferenču telpā. Pasākuma laikā grāmatu varēs iegādāties\, tā būs pieejama izdevniecības e-veikalā&nbsp\;<a href="http://www.rundaspublishing.com/" title="http://www.rundaspublishing.com" target="_blank"><strong><u>www.rundaspublishing.com</u></strong></a> un grāmatnīcās. Grāmata izdota ar Latvijas Nacionālā kultūras centra un Valsts kultūrkapitāla fonda atbalstu.<br /><br />Plašāka informācija <a href="https://www.lnkc.gov.lv/lv/jaunums/valsts-dzimsanas-diena-svinigi-atvers-janinas-kursites-gramatu-par-latvijas-kulturvienibam-jeb-mazajiem-novadiem" target="_blank"><strong>Latvijas Nacionālā kultūras centra tīmekļvietnē.</strong></a></p>
LOCATION:Latvijas Nacionālais vēstures muzejs
END:VEVENT

END:VCALENDAR