BEGIN:VCALENDAR
VERSION:2.0
PRODID:-//TYPO3/NONSGML Calendarize//EN


BEGIN:VEVENT
UID:calendarize-gramatas-tiesibas-cauri-laikiem-vesture-vertibas-valsts-atklasanas-pasakums-1
DTSTAMP:20260420T154725Z

DTSTART:20260429T070000Z
DTEND:20260429T103000Z
    
SUMMARY:Grāmatas “Tiesības cauri laikiem: vēsture\, vērtības\, valsts” atklāšanas pasākums
DESCRIPTION:Grāmata “Tiesības cauri laikiem: vēsture\, vērtības\, valsts” tapusi kā veltījums profesoram Jānim Lazdiņam\, godinot viņa ieguldījumu tiesību zinātnē\, tiesību vēstures pētniecībā un akadēmiskajā darbā. Izdevuma atklāšanas pasākums pulcēs grāmatas autorus un akadēmiskās vides pārstāvjus\, akcentējot tiesību vēstures\, vērtību un valsts attīstības savstarpējo saikni.\nPasākuma atklāšanā piedalīsies prof. Sanita Osipova un asoc.prof. Jānis Pleps\, savukārt par grāmatu stāstīs tās zinātniskais redaktors prof. Valdis Blūzma.\nPasākuma turpinājumā paredzēti grāmatas autoru priekšlasījumi. Ar priekšlasījumiem uzstāsies akadēmiķis Guntis Zemītis\, Dr. iur. Anda Smiltēna\, prof. Gvido Straube\, Marju Luts-Sootak\, Dr. iur. Philipp Schwartz\, Dr. phil. Kūlis Māris\, prof. Frank L. Schäfer\, Dr. iur. Elīna Grigore-Bāra\, prof. Kārlis Ketners un Christoph Schewe.\nPasākumu rīko LU JF Tiesību teorijas un vēstures katedra\, aicinot kolēģus\, studentus un interesentus uz tikšanos\, kurā tiks atklāta jubilejas grāmata\, skanēs autoru priekšlasījumi un jubilāra godināšanas vārdi.
X-ALT-DESC;FMTTYPE=text/html:<p>Grāmata <strong>“Tiesības cauri laikiem: vēsture\, vērtības\, valsts”</strong> tapusi kā veltījums profesoram Jānim Lazdiņam\, godinot viņa ieguldījumu tiesību zinātnē\, tiesību vēstures pētniecībā un akadēmiskajā darbā. Izdevuma atklāšanas pasākums pulcēs grāmatas autorus un akadēmiskās vides pārstāvjus\, akcentējot tiesību vēstures\, vērtību un valsts attīstības savstarpējo saikni.</p>\n<p>Pasākuma atklāšanā piedalīsies prof. <strong>Sanita Osipova</strong> un asoc.prof. <strong>Jānis Pleps</strong>\, savukārt par grāmatu stāstīs tās zinātniskais redaktors prof. <strong>Valdis Blūzma</strong>.</p>\n<p>Pasākuma turpinājumā paredzēti grāmatas autoru priekšlasījumi. Ar priekšlasījumiem uzstāsies akadēmiķis <strong>Guntis Zemītis</strong>\, <strong>Dr. iur. Anda Smiltēna</strong>\, prof. <strong>Gvido Straube</strong>\, <strong>Marju Luts-Sootak</strong>\, <strong>Dr. iur. Philipp Schwartz</strong>\, <strong>Dr. phil. Kūlis Māris</strong>\, prof. <strong>Frank L. Schäfer</strong>\, <strong>Dr. iur. Elīna Grigore-Bāra</strong>\, prof. <strong>Kārlis Ketners</strong> un <strong>Christoph Schewe</strong>.</p>\n<p>Pasākumu rīko LU JF Tiesību teorijas un vēstures katedra\, aicinot kolēģus\, studentus un interesentus uz tikšanos\, kurā tiks atklāta jubilejas grāmata\, skanēs autoru priekšlasījumi un jubilāra godināšanas vārdi.</p>
LOCATION:Konferenču zāle\, LU Juridiskā fakultāte
END:VEVENT

END:VCALENDAR