BEGIN:VCALENDAR
VERSION:2.0
PRODID:-//TYPO3/NONSGML Calendarize//EN


BEGIN:VEVENT
UID:calendarize-gata-lamas-promocijas-darba-aizstavesana
DTSTAMP:20231215T110123Z

DTSTART:20240105T100000Z
DTEND:20240105T120000Z
    
SUMMARY:Gata Lāmas promocijas darba aizstāvēšana
DESCRIPTION:2024. gada 5. janvārī plkst. 12.00 Latvijas Universitātes (LU) Promocijas padomes izglītības zinātnēs atklātā sēdē Rīgā\, Imantas 7. līnijā 1\, 100. auditorijā Gatis Lāma aizstāvēs promocijas darbu par tēmu “Vidusskolēnu caurviju prasmes matemātikas mācībās” (Ph. D.) iegūšanai.\nRecenzenti: Dr. paed. Dita Nīmante (Latvijas Universitāte)\, Dr. psych. Lūcija Rutka (RISEBA)\, Dr. paed. Linda Pavītola (Liepājas Universitāte).\nAr promocijas darbu var iepazīties Latvijas Universitātes bibliotēkā Rīgā\, Raiņa bulvārī 19.
X-ALT-DESC;FMTTYPE=text/html:<p>2024. gada 5. janvārī plkst. 12.00 Latvijas Universitātes (LU) Promocijas padomes izglītības zinātnēs atklātā sēdē Rīgā\, Imantas 7. līnijā 1\, 100. auditorijā <strong>Gatis Lāma</strong> aizstāvēs promocijas darbu par tēmu “<strong>Vidusskolēnu caurviju prasmes matemātikas mācībās</strong><strong>”</strong> <em>(Ph. D.)</em> iegūšanai.</p>\n<p>Recenzenti: <em>Dr. paed. </em>Dita Nīmante (Latvijas Universitāte)<em>\, <em>Dr. psych. </em></em><em>Lūcija Rutka</em> (RISEBA)\, <em>Dr. paed. </em>Linda Pavītola (Liepājas Universitāte).</p>\n<p>Ar promocijas darbu var iepazīties Latvijas Universitātes bibliotēkā Rīgā\, Raiņa bulvārī 19.</p>
LOCATION:Imantas 7. līnija 1\, Rīga
END:VEVENT

END:VCALENDAR