BEGIN:VCALENDAR
VERSION:2.0
PRODID:-//TYPO3/NONSGML Calendarize//EN


BEGIN:VEVENT
UID:calendarize-forthem-informativaja-sesija-un-darbseminara-kopiga-macisana-un-macisanas
DTSTAMP:20251027T115728Z

DTSTART:20251106T120000Z
DTEND:20251106T133000Z
    
SUMMARY:FORTHEM informatīvā sesija un darbseminārs "Kopīgā mācīšana un mācīšanās" 
DESCRIPTION:Šī sesija paredzēta akadēmiskajam personālam\, kuru interesē starptautiska sadarbība mācīšanas jomā\, kā arī administratīvajam personālam\, kas iesaistīts virtuālo apmaiņu īstenošanā.\nSesijas laikā tiksiet iepazīstināti ar mācīšanas internacionalizācijas koncepciju\, uzsverot galvenos formātus un FORTHEM alianses mērķus šajā jomā. Tiks aplūkots virtuālās apmaiņas (Virtual Exchange\, VE) modelis\, pievēršot uzmanību tā ieguvumiem\, izaicinājumiem un praktiskai ieviešanai\, īpaši izceļot šādus formātus:\nKopīgā mācīšana (Team Teaching)Sadarbīga tiešsaistes starptautiskā mācīšanās (COIL  - Collaborative Online International Learning)Hibrīda Ziemas skolas (Hybrid Winter Schools)\nFORTHEM komanda\, kas strādā pie šo formātu attīstības\, informēs\, kā iesaistīties un īstenot savos kursos starptautisku mācīšanas/mācīšanās pieredzi — sākot no vienkāršākā komandas mācīšanas formāta līdz padziļinātākiem formātiem.\nSirsnīgi aicinām piedalīties šajā interaktīvajā sesijā\, lai uzzinātu vairāk\, iepazītu praktiskus rīkus\, iedvesmojošus piemērus un nākotnes iespējas pārrobežu sadarbībai augstākajā izglītībā. Programma.Pieslēgšanās MS Teams.\nLai veiksmīgāk koordinētu pasākumu\, lūdzam reģistrēties līdz 2025. gada 5. novembrim.
X-ALT-DESC;FMTTYPE=text/html:<p>Šī sesija paredzēta akadēmiskajam personālam\, kuru interesē starptautiska sadarbība mācīšanas jomā\, kā arī administratīvajam personālam\, kas iesaistīts virtuālo apmaiņu īstenošanā.</p>\n<p>Sesijas laikā tiksiet iepazīstināti ar mācīšanas internacionalizācijas koncepciju\, uzsverot galvenos formātus un FORTHEM alianses mērķus šajā jomā. Tiks aplūkots virtuālās apmaiņas (<i>Virtual Exchange\, VE</i>) modelis\, pievēršot uzmanību tā ieguvumiem\, izaicinājumiem un praktiskai ieviešanai\, īpaši izceļot šādus formātus:</p>\n<ul><li><span>Kopīgā mācīšana (</span><i><span>Team Teaching</span></i><span>)</span></li><li><span>Sadarbīga tiešsaistes starptautiskā mācīšanās (C</span><i><span>OIL &nbsp\;- Collaborative Online International Learning</span></i><span>)</span></li><li><span>Hibrīda Ziemas skolas (</span><i><span>Hybrid Winter Schools</span></i><span>)</span></li></ul>\n<p>FORTHEM komanda\, kas strādā pie šo formātu attīstības\, informēs\, kā iesaistīties un īstenot savos kursos starptautisku mācīšanas/mācīšanās pieredzi — sākot no vienkāršākā komandas mācīšanas formāta līdz padziļinātākiem formātiem.</p>\n<p>Sirsnīgi aicinām piedalīties šajā interaktīvajā sesijā\, lai uzzinātu vairāk\, iepazītu praktiskus rīkus\, iedvesmojošus piemērus un nākotnes iespējas pārrobežu sadarbībai augstākajā izglītībā. <a href="https://api.forthem-alliance.eu/fileadmin/user_upload/forthem/Tips_and_Tricks_for_editors/Agenda_FORTHEM_instructors_workshop_joint_teaching_and_learning-1.jpg" target="_blank" rel="noreferrer"><strong>Programma.</strong></a><br /><br />Pieslēgšanās <a href="https://teams.microsoft.com/l/meetup-join/19%3ameeting_N2Y2ODFmOGMtODY4MS00ZWJjLWE1NDktNDBkNjhhZGNiNWMy%40thread.v2/0?context=%7b%22Tid%22%3a%2226844e44-d297-4068-a329-451ce86231f1%22%2c%22Oid%22%3a%226eb698f6-8799-4340-9798-4d572c16e7c8%22%7d" target="_blank" rel="noreferrer"><strong>MS Teams.</strong></a></p>\n<p>Lai veiksmīgāk koordinētu pasākumu\, lūdzam <a href="https://tally.so/r/npaKOb" target="_blank" rel="noreferrer"><strong>reģistrēties līdz 2025. gada 5. novembrim.</strong></a></p>
LOCATION:MS Teams
END:VEVENT

END:VCALENDAR