BEGIN:VCALENDAR
VERSION:2.0
PRODID:-//TYPO3/NONSGML Calendarize//EN


BEGIN:VEVENT
UID:calendarize-forthem-info-session-and-workshop-joint-teaching-and-learning
DTSTAMP:20251027T120147Z

DTSTART:20251106T120000Z
DTEND:20251106T133000Z
    
SUMMARY:FORTHEM Info Session and Workshop “Joint Teaching and Learning”
DESCRIPTION:This session is designed for academic staff interested in international teaching collaborations\, as well as administrative staff involved in facilitating virtual exchanges.\nThe session will introduce the concept of Internationalisation of Teaching\, highlighting key formats and the objectives of the FORTHEM Alliance in this area. It will explore Virtual Exchange (VE)\, focusing on its benefits\, challenges\, and practical implementation\, with special attention to:\nTeam TeachingCOIL (Collaborative Online International Learning)Hybrid Teaching & Learning (e.g.\, hybrid short-term schools)\nThe FORTHEM team working on these new formats has tried to offer a simple way to get involved in different formats to implement in your courses international teaching/learning experience\, from the simplest and easy Team Teaching to more committed formats\, such as COIL.\nWe warmly encourage you to join this interactive session to learn about\, explore practical tools\, inspiring examples\, and future possibilities for cross-border collaboration in higher education.\n Join online via MS Teams.\nTo help us better coordinate the event\, please register by November 5\, 2025.
X-ALT-DESC;FMTTYPE=text/html:<p>This session is designed for academic staff interested in international teaching collaborations\, as well as administrative staff involved in facilitating virtual exchanges.</p>\n<p>The session will introduce the concept of Internationalisation of Teaching\, highlighting key formats and the objectives of the FORTHEM Alliance in this area. It will explore Virtual Exchange (VE)\, focusing on its benefits\, challenges\, and practical implementation\, with special attention to:</p>\n<ul><li><span>Team Teaching</span></li><li><span>COIL (Collaborative Online International Learning)</span></li><li><span>Hybrid Teaching &amp\; Learning (e.g.\, hybrid short-term schools)</span></li></ul>\n<p>The FORTHEM team working on these new formats has tried to offer a simple way to get involved in different formats to implement in your courses international teaching/learning experience\, from the simplest and easy Team Teaching to more committed formats\, such as COIL.</p>\n<p>We warmly encourage you to join&nbsp\;<a class="Hyperlink SCXW249276302 BCX0" href="https://api.forthem-alliance.eu/fileadmin/user_upload/forthem/Tips_and_Tricks_for_editors/Agenda_FORTHEM_instructors_workshop_joint_teaching_and_learning-1.jpg" target="_blank" rel="noreferrer noopener"><strong>this interactive session</strong></a>&nbsp\;to learn about\, explore practical tools\, inspiring examples\, and future possibilities for cross-border collaboration in higher education.</p>\n<p>&nbsp\;Join online via <a href="https://teams.microsoft.com/l/meetup-join/19%3ameeting_N2Y2ODFmOGMtODY4MS00ZWJjLWE1NDktNDBkNjhhZGNiNWMy%40thread.v2/0?context=%7b%22Tid%22%3a%2226844e44-d297-4068-a329-451ce86231f1%22%2c%22Oid%22%3a%226eb698f6-8799-4340-9798-4d572c16e7c8%22%7d" target="_blank" rel="noreferrer"><strong>MS Teams.</strong></a></p>\n<p>To help us better coordinate the event\, please <a href="https://tally.so/r/npaKOb" target="_blank" rel="noreferrer"><strong>register by November 5\, 2025.</strong></a></p>
LOCATION:MS Teams
END:VEVENT

END:VCALENDAR