BEGIN:VCALENDAR
VERSION:2.0
PRODID:-//TYPO3/NONSGML Calendarize//EN


BEGIN:VEVENT
UID:calendarize-dabaszinatnes-matematika-inzenierzinatnes-un-tehnologijas-skola-efektivi-un-radosi
DTSTAMP:20220815T112325Z

DTSTART;VALUE=DATE:20220823
DTEND;VALUE=DATE:20220824
    
SUMMARY:Dabaszinātnes\, matemātika\, inženierzinātnes un tehnoloģijas skolā efektīvi un radoši
DESCRIPTION:Latvijas Universitātes (LU) Starpnozaru izglītības inovāciju centrs (SIIC) 23. augustā LU Akadēmiskajā centrā organizē skolotāju metodiski praktisko konferenci „Dabaszinātnes\, matemātika\, inženierzinātnes un tehnoloģijas skolā efektīvi un radoši”. Lai efektīvi sagatavotos jaunajam mācību gadam\, gūtu idejas un praktiskus piemērus radošam darbam klasē\, uzzinātu par aktuālāko dabaszinātņu izglītībā un politikā\, konference uz domapmaiņu aicina skolotājus\, izglītības politikas veidotājus\, augstskolu mācībspēkus\, izglītības uzņēmumus un citus interesentus. Dalību konferencei LU SIIC mājaslapā iespējams reģistrēt līdz 19. augustam.\nVairāk informācijas
X-ALT-DESC;FMTTYPE=text/html:<p>Latvijas Universitātes (LU) Starpnozaru izglītības inovāciju centrs (SIIC) 23. augustā LU Akadēmiskajā centrā organizē skolotāju metodiski praktisko konferenci „Dabaszinātnes\, matemātika\, inženierzinātnes un tehnoloģijas skolā efektīvi un radoši”. Lai efektīvi sagatavotos jaunajam mācību gadam\, gūtu idejas un praktiskus piemērus radošam darbam klasē\, uzzinātu par aktuālāko dabaszinātņu izglītībā un politikā\, konference uz domapmaiņu aicina skolotājus\, izglītības politikas veidotājus\, augstskolu mācībspēkus\, izglītības uzņēmumus un citus interesentus. Dalību konferencei <a href="https://www.siic.lu.lv/par-mums/zinas/zina/t/73304/">LU SIIC mājaslapā</a> iespējams reģistrēt līdz 19. augustam.</p>\n<p><strong><a href="https://www.lu.lv/par-mums/lu-mediji/zinas/zina/t/73346/">Vairāk informācijas</a></strong></p>
LOCATION:LU Akadēmiskais centrs
END:VEVENT

END:VCALENDAR