BEGIN:VCALENDAR
VERSION:2.0
PRODID:-//TYPO3/NONSGML Calendarize//EN


BEGIN:VEVENT
UID:calendarize-atverto-durvju-diena-profesionala-magistra-studiju-programma-tiesibu-zinatne-1
DTSTAMP:20220630T144936Z

DTSTART:20220704T140000Z
DTEND:20220704T153000Z
    
SUMMARY:Atvērto durvju diena: profesionālā maģistra studiju programma "Tiesību zinātne"
DESCRIPTION:Visi interesenti 4. jūlijā plkst. 17:00 aicināti pievienoties informatīvai lekcijai par profesionālā maģistra studiju programmu "Tiesību zinātne". Par studijām\, iestājeksāmenu un pieteikšanos studijām stāstīs programmas direktore\, asoc.prof. Annija Kārkliņa. \nLekcija notiks tiešsaistē\, MS Teams platformā. Saite uz lekciju šeit. 
X-ALT-DESC;FMTTYPE=text/html:<p>Visi interesenti 4. jūlijā plkst. 17:00 aicināti pievienoties informatīvai lekcijai par profesionālā maģistra studiju programmu "Tiesību zinātne". Par studijām\, iestājeksāmenu un pieteikšanos studijām stāstīs programmas direktore\, asoc.prof. Annija Kārkliņa.&nbsp\;</p>\n<p>Lekcija notiks tiešsaistē\, MS Teams platformā. <strong><a href="https://teams.microsoft.com/l/meetup-join/19%3ameeting_ZWI5N2I0MWMtZmM3OS00YjNiLWEwNDgtYTdiNjE0YzM3MThl%40thread.v2/0?context=%7b%22Tid%22%3a%2226844e44-d297-4068-a329-451ce86231f1%22%2c%22Oid%22%3a%22c8b4cfe8-d49a-4a87-967f-bea855c44da0%22%7d "><strong>Saite uz lekciju šeit.&nbsp\;</strong></a></strong></p>
LOCATION:
END:VEVENT

END:VCALENDAR